BEGIN:VCALENDAR
VERSION:2.0
PRODID:icalendar-ruby
CALSCALE:GREGORIAN
METHOD:PUBLISH
BEGIN:VEVENT
DTSTAMP:20260423T163543Z
UID:event-8725-2023-12-05T19:30:00+01:00-none
DTSTART;TZID=Europe/Madrid:20231205T193000
DESCRIPTION:Fue don Juan de Tassis y Peralta\, segundo conde de Villamedian
 a y Correo Mayor del Reino\, una figura legendaria.
SUMMARY:"Cara y cruz del conde de Villamediana"\, por Juan Francisco Queved
 o
END:VEVENT
END:VCALENDAR
