BEGIN:VCALENDAR
VERSION:2.0
PRODID:icalendar-ruby
CALSCALE:GREGORIAN
METHOD:PUBLISH
BEGIN:VEVENT
DTSTAMP:20260425T164728Z
UID:event-4242-2022-12-27T09:00:00+01:00-2022-12-27T14:00:00+01:00
DTSTART;TZID=Europe/Madrid:20221227T090000
DTEND;TZID=Europe/Madrid:20221227T140000
DESCRIPTION:Ya llega la Navidad y con ella el campus en inglés Christmas C
 amp 2022\, para niños y niñas de 2 a 12 años de edad\, del 27 al 30 de 
 diciembre de 2022 y del 2 al 5 de enero de 2023. 
SUMMARY:Christmas Camp 2022
END:VEVENT
BEGIN:VEVENT
DTSTAMP:20260425T164728Z
UID:event-4242-2022-12-28T09:00:00+01:00-2022-12-28T14:00:00+01:00
DTSTART;TZID=Europe/Madrid:20221228T090000
DTEND;TZID=Europe/Madrid:20221228T140000
DESCRIPTION:Ya llega la Navidad y con ella el campus en inglés Christmas C
 amp 2022\, para niños y niñas de 2 a 12 años de edad\, del 27 al 30 de 
 diciembre de 2022 y del 2 al 5 de enero de 2023. 
SUMMARY:Christmas Camp 2022
END:VEVENT
BEGIN:VEVENT
DTSTAMP:20260425T164728Z
UID:event-4242-2022-12-29T09:00:00+01:00-2022-12-29T14:00:00+01:00
DTSTART;TZID=Europe/Madrid:20221229T090000
DTEND;TZID=Europe/Madrid:20221229T140000
DESCRIPTION:Ya llega la Navidad y con ella el campus en inglés Christmas C
 amp 2022\, para niños y niñas de 2 a 12 años de edad\, del 27 al 30 de 
 diciembre de 2022 y del 2 al 5 de enero de 2023. 
SUMMARY:Christmas Camp 2022
END:VEVENT
BEGIN:VEVENT
DTSTAMP:20260425T164728Z
UID:event-4242-2022-12-30T09:00:00+01:00-2022-12-30T14:00:00+01:00
DTSTART;TZID=Europe/Madrid:20221230T090000
DTEND;TZID=Europe/Madrid:20221230T140000
DESCRIPTION:Ya llega la Navidad y con ella el campus en inglés Christmas C
 amp 2022\, para niños y niñas de 2 a 12 años de edad\, del 27 al 30 de 
 diciembre de 2022 y del 2 al 5 de enero de 2023. 
SUMMARY:Christmas Camp 2022
END:VEVENT
BEGIN:VEVENT
DTSTAMP:20260425T164728Z
UID:event-4242-2023-01-02T09:00:00+01:00-2023-01-02T14:00:00+01:00
DTSTART;TZID=Europe/Madrid:20230102T090000
DTEND;TZID=Europe/Madrid:20230102T140000
DESCRIPTION:Ya llega la Navidad y con ella el campus en inglés Christmas C
 amp 2022\, para niños y niñas de 2 a 12 años de edad\, del 27 al 30 de 
 diciembre de 2022 y del 2 al 5 de enero de 2023. 
SUMMARY:Christmas Camp 2022
END:VEVENT
BEGIN:VEVENT
DTSTAMP:20260425T164728Z
UID:event-4242-2023-01-03T09:00:00+01:00-2023-01-03T14:00:00+01:00
DTSTART;TZID=Europe/Madrid:20230103T090000
DTEND;TZID=Europe/Madrid:20230103T140000
DESCRIPTION:Ya llega la Navidad y con ella el campus en inglés Christmas C
 amp 2022\, para niños y niñas de 2 a 12 años de edad\, del 27 al 30 de 
 diciembre de 2022 y del 2 al 5 de enero de 2023. 
SUMMARY:Christmas Camp 2022
END:VEVENT
BEGIN:VEVENT
DTSTAMP:20260425T164728Z
UID:event-4242-2023-01-04T09:00:00+01:00-2023-01-04T14:00:00+01:00
DTSTART;TZID=Europe/Madrid:20230104T090000
DTEND;TZID=Europe/Madrid:20230104T140000
DESCRIPTION:Ya llega la Navidad y con ella el campus en inglés Christmas C
 amp 2022\, para niños y niñas de 2 a 12 años de edad\, del 27 al 30 de 
 diciembre de 2022 y del 2 al 5 de enero de 2023. 
SUMMARY:Christmas Camp 2022
END:VEVENT
BEGIN:VEVENT
DTSTAMP:20260425T164728Z
UID:event-4242-2023-01-05T09:00:00+01:00-2023-01-05T14:00:00+01:00
DTSTART;TZID=Europe/Madrid:20230105T090000
DTEND;TZID=Europe/Madrid:20230105T140000
DESCRIPTION:Ya llega la Navidad y con ella el campus en inglés Christmas C
 amp 2022\, para niños y niñas de 2 a 12 años de edad\, del 27 al 30 de 
 diciembre de 2022 y del 2 al 5 de enero de 2023. 
SUMMARY:Christmas Camp 2022
END:VEVENT
END:VCALENDAR
