BEGIN:VCALENDAR
VERSION:2.0
PRODID:icalendar-ruby
CALSCALE:GREGORIAN
METHOD:PUBLISH
BEGIN:VEVENT
DTSTAMP:20260421T164606Z
UID:event-17810-2025-08-08T19:15:00+02:00-none
DTSTART;TZID=Europe/Madrid:20250808T191500
DESCRIPTION:“Trotacalles”\, dirigida por Matilde Landeta —la única c
 ineasta mujer de la llamada Época de Oro del cine mexicano— ofrece una 
 mirada distinta: una protagonista trabajadora\, marginal\, en una historia
  de supervivencia femenina.
SUMMARY:Ciclo de cine negro-mexicano: "Trotacalles"\, de Matilde Landeta
END:VEVENT
END:VCALENDAR
