BEGIN:VCALENDAR
VERSION:2.0
PRODID:icalendar-ruby
CALSCALE:GREGORIAN
METHOD:PUBLISH
BEGIN:VEVENT
DTSTAMP:20260420T143819Z
UID:event-22322-2026-05-13T19:30:00+02:00-none
DTSTART;TZID=Europe/Madrid:20260513T193000
DESCRIPTION:El Aula de la Ciencia en colaboración con el Instituto de Fís
 ica de Cantabria (UC-CSIC) y  el Ateneo de Santander organiza este ciclo p
 ara acercar las ciencias a la sociedad cántabra. 
SUMMARY:Ciencia en el Ateneo: "Impactos del calentamiento global en el refr
 anero castellano"
END:VEVENT
END:VCALENDAR
