BEGIN:VCALENDAR
VERSION:2.0
PRODID:icalendar-ruby
CALSCALE:GREGORIAN
METHOD:PUBLISH
BEGIN:VEVENT
DTSTAMP:20260424T144324Z
UID:event-3972-2022-11-17T20:00:00+01:00-none
DTSTART;TZID=Europe/Madrid:20221117T200000
DESCRIPTION:La Libre acoge la charla “De aquellas bacterias sexis a esta 
 humanidad sin seso”\, a cargo de Marisa Maliaño Toca\, médica experta 
 en salud pública y divulgadora científica.
SUMMARY:Ciencia y patriarcado: "De aquellas bacterias sexis a esta humanida
 d sin seso"\, por Marisa Maliaño
END:VEVENT
END:VCALENDAR
