BEGIN:VCALENDAR
VERSION:2.0
PRODID:icalendar-ruby
CALSCALE:GREGORIAN
METHOD:PUBLISH
BEGIN:VEVENT
DTSTAMP:20260420T142912Z
UID:event-10586-2024-04-11T21:30:00+02:00-none
DTSTART;TZID=Europe/Madrid:20240411T213000
DESCRIPTION:"Cine a Ciegas" te ofrece la oportunidad de redescubrir la emoc
 ión pura de ir al cine\, dejando de lado las expectativas y permitiendo q
 ue la magia del séptimo arte te sorprenda de principio a fin. 
SUMMARY:Cine a ciegas en Los Ángeles
END:VEVENT
END:VCALENDAR
