BEGIN:VCALENDAR
VERSION:2.0
PRODID:icalendar-ruby
CALSCALE:GREGORIAN
METHOD:PUBLISH
BEGIN:VEVENT
DTSTAMP:20260422T173714Z
UID:event-9439-2024-03-22T18:00:00+01:00-none
DTSTART;TZID=Europe/Madrid:20240322T180000
DESCRIPTION:Maki es un niño de diez años que ha entablado amistad con Zar
 afa\, una jirafa huérfana\, ofrecida por el pachá de Egipto al rey de Fr
 ancia Carlos X para que le ayude a liberar Alejandría de los invasores tu
 rcos. 
SUMMARY:Cine de animación francés: "Zarafa"\, de Rémi Bezançon y Jean-C
 hristophe Lie (V.O.S.E.)
END:VEVENT
END:VCALENDAR
