BEGIN:VCALENDAR
VERSION:2.0
PRODID:icalendar-ruby
CALSCALE:GREGORIAN
METHOD:PUBLISH
BEGIN:VEVENT
DTSTAMP:20260425T165340Z
UID:event-17792-2025-08-04T21:00:00+02:00-none
DTSTART;TZID=Europe/Madrid:20250804T210000
DESCRIPTION:¿Qué efecto tendría en unos padres que el mismo día que su 
 hija mayor cumple 18 años su novio le proponga matrimonio y ella acepte d
 e inmediato?
SUMMARY:Cine de verano: "Padre no hay más que uno 4: Campanas de boda"
END:VEVENT
END:VCALENDAR
