BEGIN:VCALENDAR
VERSION:2.0
PRODID:icalendar-ruby
CALSCALE:GREGORIAN
METHOD:PUBLISH
BEGIN:VEVENT
DTSTAMP:20260422T164311Z
UID:event-2248-2022-07-21T19:00:00+02:00-none
DTSTART;TZID=Europe/Madrid:20220721T190000
DESCRIPTION:Simbad\, el aventurero más osado y famoso que cruzó los siete
  mares\, tiene que afrontar el peligro más grande de su vida.
SUMMARY:Cine de verano: Sinbad\, la leyenda de los siete mares
END:VEVENT
END:VCALENDAR
