BEGIN:VCALENDAR
VERSION:2.0
PRODID:icalendar-ruby
CALSCALE:GREGORIAN
METHOD:PUBLISH
BEGIN:VEVENT
DTSTAMP:20260423T101518Z
UID:event-4422-2023-01-12T18:30:00+01:00-none
DTSTART;TZID=Europe/Madrid:20230112T183000
DESCRIPTION:Los días 12\, 13 y 16 de enero\, a las 18:30 h\, Cineinfinito 
 organiza en el Centro Cultural Madrazo un completo programa en torno a la 
 obra del cineasta sueco Victor Sjöström.
SUMMARY:Cineinfinito proyecta la obra del cineasta sueco Victor Sjöströ
 m
END:VEVENT
BEGIN:VEVENT
DTSTAMP:20260423T101518Z
UID:event-4422-2023-01-16T18:30:00+01:00-none
DTSTART;TZID=Europe/Madrid:20230116T183000
DESCRIPTION:Los días 12\, 13 y 16 de enero\, a las 18:30 h\, Cineinfinito 
 organiza en el Centro Cultural Madrazo un completo programa en torno a la 
 obra del cineasta sueco Victor Sjöström.
SUMMARY:Cineinfinito proyecta la obra del cineasta sueco Victor Sjöströ
 m
END:VEVENT
END:VCALENDAR
