BEGIN:VCALENDAR
VERSION:2.0
PRODID:icalendar-ruby
CALSCALE:GREGORIAN
METHOD:PUBLISH
BEGIN:VEVENT
DTSTAMP:20260421T231831Z
UID:event-1977-2022-08-20T21:00:00+02:00-none
DTSTART;TZID=Europe/Madrid:20220820T210000
DESCRIPTION:Circus Cabaret es el título del cuarto de los seis espectácul
 os dedicados al cabaret que están programados por la Autoridad Portuaria 
 hasta el mes de noviembre en la Estación Marítima con motivo de la celeb
 ración del 150 aniversario del pue
SUMMARY:Circus Cabaret
END:VEVENT
END:VCALENDAR
