BEGIN:VCALENDAR
VERSION:2.0
PRODID:icalendar-ruby
CALSCALE:GREGORIAN
METHOD:PUBLISH
BEGIN:VEVENT
DTSTAMP:20260419T132653Z
UID:event-22242-2026-05-08T19:30:00+02:00-none
DTSTART;TZID=Europe/Madrid:20260508T193000
DESCRIPTION:De la mano de una de las nuevas y jóvenes voces de la narrativ
 a española\, llega este relato generacional sobre el cuidado colectivo y 
 la construcción de la vida. 
SUMMARY:Club de lectura Las Quimas\, para mujeres LBT: "La Grieta"\, de And
 rea Liba
END:VEVENT
END:VCALENDAR
