BEGIN:VCALENDAR
VERSION:2.0
PRODID:icalendar-ruby
CALSCALE:GREGORIAN
METHOD:PUBLISH
BEGIN:VEVENT
DTSTAMP:20260419T124738Z
UID:event-985-2022-04-02T11:30:00+02:00-none
DTSTART;TZID=Europe/Madrid:20220402T113000
DESCRIPTION:La actividad consiste en una visita a la sala de disección de 
 la Facultad de Medicina\, donde se trabaja con las donaciones con fines do
 centes e investigación. 
SUMMARY:"¿Cómo se estudia el cuerpo humano?" en Sábados de Ciencia
END:VEVENT
END:VCALENDAR
