BEGIN:VCALENDAR
VERSION:2.0
PRODID:icalendar-ruby
CALSCALE:GREGORIAN
METHOD:PUBLISH
BEGIN:VEVENT
DTSTAMP:20260421T164524Z
UID:event-20381-2026-01-04T12:00:00+01:00-none
DTSTART;TZID=Europe/Madrid:20260104T120000
DESCRIPTION:Las Naves de Gamazo acogen el domingo 4 de enero un concierto d
 e Navidad a cargo de la Escuela de Música Moderna Musiquea. Será a las 1
 2:00h\, con entrada libre.
SUMMARY:Concierto de Navidad: Musiquea en acústico
END:VEVENT
END:VCALENDAR
