BEGIN:VCALENDAR
VERSION:2.0
PRODID:icalendar-ruby
CALSCALE:GREGORIAN
METHOD:PUBLISH
BEGIN:VEVENT
DTSTAMP:20260425T181025Z
UID:event-22196-2026-04-25T20:00:00+02:00-none
DTSTART;TZID=Europe/Madrid:20260425T200000
DESCRIPTION:Concierto del grupo Plaza Mayor en la Iglesia de Santa María d
 e los Ángeles (Perines) el sábado 25 de abril a las 20:00h. Música trad
 icional leonesa.
SUMMARY:Concierto del grupo Plaza Mayor\, música tradicional leonesa
END:VEVENT
END:VCALENDAR
