BEGIN:VCALENDAR
VERSION:2.0
PRODID:icalendar-ruby
CALSCALE:GREGORIAN
METHOD:PUBLISH
BEGIN:VEVENT
DTSTAMP:20260419T132825Z
UID:event-16723-2025-08-05T19:00:00+02:00-2025-08-05T20:00:00+02:00
DTSTART;TZID=Europe/Madrid:20250805T190000
DTEND;TZID=Europe/Madrid:20250805T200000
DESCRIPTION:La salud mental ha ganado una relevancia considerable en los ú
 ltimos años y las canciones abren una puerta a trabajar con las emociones
  desde la alegría y la superación hasta la tristeza\, el duelo e incluso
  el suicidio.
SUMMARY:Concierto didáctico en inglés "Feel the music"
END:VEVENT
END:VCALENDAR
