BEGIN:VCALENDAR
VERSION:2.0
PRODID:icalendar-ruby
CALSCALE:GREGORIAN
METHOD:PUBLISH
BEGIN:VEVENT
DTSTAMP:20260420T143704Z
UID:event-22348-2026-04-23T19:00:00+02:00-none
DTSTART;TZID=Europe/Madrid:20260423T190000
DESCRIPTION:El objetivo del evento es sensibilizar sobre la acogida de pers
 onas refugiadas LGTBIQ+ y de implicar a jóvenes artistas en la utilizaci
 ón del arte como herramienta de concienciación y de transformación soci
 al.
SUMMARY:Concierto solidario “Cantabria: refugio hoy\, hogar para siempre
 ”
END:VEVENT
END:VCALENDAR
