BEGIN:VCALENDAR
VERSION:2.0
PRODID:icalendar-ruby
CALSCALE:GREGORIAN
METHOD:PUBLISH
BEGIN:VEVENT
DTSTAMP:20260421T215237Z
UID:event-2654-2022-08-20T19:30:00+02:00-2022-08-20T22:00:00+02:00
DTSTART;TZID=Europe/Madrid:20220820T193000
DTEND;TZID=Europe/Madrid:20220820T220000
DESCRIPTION:El sábado 20 de agosto la programación del festival nos traer
 á los directos de Mikan\, Lucía Gago y Joe Lewis Elvis\, que ofrecerá u
 n tributo al rey del rock.
SUMMARY:Conciertos de Mikan\, Lucía Gago y Joe Lewis Elvis hoy en el Festi
 val Intercultural
END:VEVENT
END:VCALENDAR
