BEGIN:VCALENDAR
VERSION:2.0
PRODID:icalendar-ruby
CALSCALE:GREGORIAN
METHOD:PUBLISH
BEGIN:VEVENT
DTSTAMP:20260422T164143Z
UID:event-11056-2024-07-12T17:00:00+02:00-2024-07-12T21:30:00+02:00
DTSTART;TZID=Europe/Madrid:20240712T170000
DTEND;TZID=Europe/Madrid:20240712T213000
DESCRIPTION:Del viernes 12 al martes 16 de julio en el Palacio de Exposicio
 nes y Congresos de Santander\, se abrirán las puertas de ArteSantander 20
 24\, una plataforma de encuentro que reúne a todas las personas que confo
 rman el ecosistema del arte.
SUMMARY:ArteSantander 2024
END:VEVENT
BEGIN:VEVENT
DTSTAMP:20260422T164143Z
UID:event-11056-2024-07-13T17:00:00+02:00-2024-07-13T21:30:00+02:00
DTSTART;TZID=Europe/Madrid:20240713T170000
DTEND;TZID=Europe/Madrid:20240713T213000
DESCRIPTION:Del viernes 12 al martes 16 de julio en el Palacio de Exposicio
 nes y Congresos de Santander\, se abrirán las puertas de ArteSantander 20
 24\, una plataforma de encuentro que reúne a todas las personas que confo
 rman el ecosistema del arte.
SUMMARY:ArteSantander 2024
END:VEVENT
BEGIN:VEVENT
DTSTAMP:20260422T164143Z
UID:event-11056-2024-07-14T17:00:00+02:00-2024-07-14T21:30:00+02:00
DTSTART;TZID=Europe/Madrid:20240714T170000
DTEND;TZID=Europe/Madrid:20240714T213000
DESCRIPTION:Del viernes 12 al martes 16 de julio en el Palacio de Exposicio
 nes y Congresos de Santander\, se abrirán las puertas de ArteSantander 20
 24\, una plataforma de encuentro que reúne a todas las personas que confo
 rman el ecosistema del arte.
SUMMARY:ArteSantander 2024
END:VEVENT
BEGIN:VEVENT
DTSTAMP:20260422T164143Z
UID:event-11056-2024-07-15T17:00:00+02:00-2024-07-15T21:30:00+02:00
DTSTART;TZID=Europe/Madrid:20240715T170000
DTEND;TZID=Europe/Madrid:20240715T213000
DESCRIPTION:Del viernes 12 al martes 16 de julio en el Palacio de Exposicio
 nes y Congresos de Santander\, se abrirán las puertas de ArteSantander 20
 24\, una plataforma de encuentro que reúne a todas las personas que confo
 rman el ecosistema del arte.
SUMMARY:ArteSantander 2024
END:VEVENT
BEGIN:VEVENT
DTSTAMP:20260422T164143Z
UID:event-11056-2024-07-16T17:00:00+02:00-2024-07-16T21:30:00+02:00
DTSTART;TZID=Europe/Madrid:20240716T170000
DTEND;TZID=Europe/Madrid:20240716T213000
DESCRIPTION:Del viernes 12 al martes 16 de julio en el Palacio de Exposicio
 nes y Congresos de Santander\, se abrirán las puertas de ArteSantander 20
 24\, una plataforma de encuentro que reúne a todas las personas que confo
 rman el ecosistema del arte.
SUMMARY:ArteSantander 2024
END:VEVENT
END:VCALENDAR
