BEGIN:VCALENDAR
VERSION:2.0
PRODID:icalendar-ruby
CALSCALE:GREGORIAN
METHOD:PUBLISH
BEGIN:VEVENT
DTSTAMP:20260422T204325Z
UID:event-399-2022-02-13T17:00:00+01:00-none
DTSTART;TZID=Europe/Madrid:20220213T170000
DESCRIPTION:Cuando Emily Elizabeth conoce a un rescatador mágico de animal
 es que le regala un pequeño cachorro rojo\, nunca se hubiera imaginado qu
 e al despertarse se encontraría un sabueso gigante de tres metros en su p
 equeño apartamento.
SUMMARY:"Clifford\, el gran perro rojo" en Filmoteca Junior
END:VEVENT
END:VCALENDAR
