BEGIN:VCALENDAR
VERSION:2.0
PRODID:icalendar-ruby
CALSCALE:GREGORIAN
METHOD:PUBLISH
BEGIN:VEVENT
DTSTAMP:20260423T153517Z
UID:event-1694-2022-07-27T19:30:00+02:00-none
DTSTART;TZID=Europe/Madrid:20220727T193000
DESCRIPTION:El ciclo finalizará el 27 de julio en la conferencia de clausu
 ra que tendrá lugar en la Isla de la Torre y en la que participarán Domi
 ngo de la Lastra\, Gerardo García Castrillo y Fernando Mirapeix.
SUMMARY:“La Isla de la Torre”\, por Domingo Lastra\, Gerardo G-Castrill
 o y Fernando Mirapeix
END:VEVENT
END:VCALENDAR
