BEGIN:VCALENDAR
VERSION:2.0
PRODID:icalendar-ruby
CALSCALE:GREGORIAN
METHOD:PUBLISH
BEGIN:VEVENT
DTSTAMP:20260421T234603Z
UID:event-2382-2022-07-15T18:00:00+02:00-2022-07-15T21:00:00+02:00
DTSTART;TZID=Europe/Madrid:20220715T180000
DTEND;TZID=Europe/Madrid:20220715T210000
DESCRIPTION:fluent presenta “Me recuesto sobre la campanilla de una prím
 ula”\, una exposición individual de la artista británica Georgina Hill
 .
SUMMARY:Exposición individual de la artista británica Georgina Hill
END:VEVENT
BEGIN:VEVENT
DTSTAMP:20260421T234603Z
UID:event-2382-2022-07-16T18:00:00+02:00-2022-07-16T21:00:00+02:00
DTSTART;TZID=Europe/Madrid:20220716T180000
DTEND;TZID=Europe/Madrid:20220716T210000
DESCRIPTION:fluent presenta “Me recuesto sobre la campanilla de una prím
 ula”\, una exposición individual de la artista británica Georgina Hill
 .
SUMMARY:Exposición individual de la artista británica Georgina Hill
END:VEVENT
BEGIN:VEVENT
DTSTAMP:20260421T234603Z
UID:event-2382-2022-07-17T18:00:00+02:00-2022-07-17T21:00:00+02:00
DTSTART;TZID=Europe/Madrid:20220717T180000
DTEND;TZID=Europe/Madrid:20220717T210000
DESCRIPTION:fluent presenta “Me recuesto sobre la campanilla de una prím
 ula”\, una exposición individual de la artista británica Georgina Hill
 .
SUMMARY:Exposición individual de la artista británica Georgina Hill
END:VEVENT
BEGIN:VEVENT
DTSTAMP:20260421T234603Z
UID:event-2382-2022-07-18T18:00:00+02:00-2022-07-18T21:00:00+02:00
DTSTART;TZID=Europe/Madrid:20220718T180000
DTEND;TZID=Europe/Madrid:20220718T210000
DESCRIPTION:fluent presenta “Me recuesto sobre la campanilla de una prím
 ula”\, una exposición individual de la artista británica Georgina Hill
 .
SUMMARY:Exposición individual de la artista británica Georgina Hill
END:VEVENT
BEGIN:VEVENT
DTSTAMP:20260421T234603Z
UID:event-2382-2022-07-19T18:00:00+02:00-2022-07-19T21:00:00+02:00
DTSTART;TZID=Europe/Madrid:20220719T180000
DTEND;TZID=Europe/Madrid:20220719T210000
DESCRIPTION:fluent presenta “Me recuesto sobre la campanilla de una prím
 ula”\, una exposición individual de la artista británica Georgina Hill
 .
SUMMARY:Exposición individual de la artista británica Georgina Hill
END:VEVENT
BEGIN:VEVENT
DTSTAMP:20260421T234603Z
UID:event-2382-2022-07-20T18:00:00+02:00-2022-07-20T21:00:00+02:00
DTSTART;TZID=Europe/Madrid:20220720T180000
DTEND;TZID=Europe/Madrid:20220720T210000
DESCRIPTION:fluent presenta “Me recuesto sobre la campanilla de una prím
 ula”\, una exposición individual de la artista británica Georgina Hill
 .
SUMMARY:Exposición individual de la artista británica Georgina Hill
END:VEVENT
BEGIN:VEVENT
DTSTAMP:20260421T234603Z
UID:event-2382-2022-07-21T18:00:00+02:00-2022-07-21T21:00:00+02:00
DTSTART;TZID=Europe/Madrid:20220721T180000
DTEND;TZID=Europe/Madrid:20220721T210000
DESCRIPTION:fluent presenta “Me recuesto sobre la campanilla de una prím
 ula”\, una exposición individual de la artista británica Georgina Hill
 .
SUMMARY:Exposición individual de la artista británica Georgina Hill
END:VEVENT
BEGIN:VEVENT
DTSTAMP:20260421T234603Z
UID:event-2382-2022-07-22T18:00:00+02:00-2022-07-22T21:00:00+02:00
DTSTART;TZID=Europe/Madrid:20220722T180000
DTEND;TZID=Europe/Madrid:20220722T210000
DESCRIPTION:fluent presenta “Me recuesto sobre la campanilla de una prím
 ula”\, una exposición individual de la artista británica Georgina Hill
 .
SUMMARY:Exposición individual de la artista británica Georgina Hill
END:VEVENT
BEGIN:VEVENT
DTSTAMP:20260421T234603Z
UID:event-2382-2022-07-23T18:00:00+02:00-2022-07-23T21:00:00+02:00
DTSTART;TZID=Europe/Madrid:20220723T180000
DTEND;TZID=Europe/Madrid:20220723T210000
DESCRIPTION:fluent presenta “Me recuesto sobre la campanilla de una prím
 ula”\, una exposición individual de la artista británica Georgina Hill
 .
SUMMARY:Exposición individual de la artista británica Georgina Hill
END:VEVENT
BEGIN:VEVENT
DTSTAMP:20260421T234603Z
UID:event-2382-2022-07-24T18:00:00+02:00-2022-07-24T21:00:00+02:00
DTSTART;TZID=Europe/Madrid:20220724T180000
DTEND;TZID=Europe/Madrid:20220724T210000
DESCRIPTION:fluent presenta “Me recuesto sobre la campanilla de una prím
 ula”\, una exposición individual de la artista británica Georgina Hill
 .
SUMMARY:Exposición individual de la artista británica Georgina Hill
END:VEVENT
BEGIN:VEVENT
DTSTAMP:20260421T234603Z
UID:event-2382-2022-07-25T18:00:00+02:00-2022-07-25T21:00:00+02:00
DTSTART;TZID=Europe/Madrid:20220725T180000
DTEND;TZID=Europe/Madrid:20220725T210000
DESCRIPTION:fluent presenta “Me recuesto sobre la campanilla de una prím
 ula”\, una exposición individual de la artista británica Georgina Hill
 .
SUMMARY:Exposición individual de la artista británica Georgina Hill
END:VEVENT
BEGIN:VEVENT
DTSTAMP:20260421T234603Z
UID:event-2382-2022-07-26T18:00:00+02:00-2022-07-26T21:00:00+02:00
DTSTART;TZID=Europe/Madrid:20220726T180000
DTEND;TZID=Europe/Madrid:20220726T210000
DESCRIPTION:fluent presenta “Me recuesto sobre la campanilla de una prím
 ula”\, una exposición individual de la artista británica Georgina Hill
 .
SUMMARY:Exposición individual de la artista británica Georgina Hill
END:VEVENT
BEGIN:VEVENT
DTSTAMP:20260421T234603Z
UID:event-2382-2022-07-27T18:00:00+02:00-2022-07-27T21:00:00+02:00
DTSTART;TZID=Europe/Madrid:20220727T180000
DTEND;TZID=Europe/Madrid:20220727T210000
DESCRIPTION:fluent presenta “Me recuesto sobre la campanilla de una prím
 ula”\, una exposición individual de la artista británica Georgina Hill
 .
SUMMARY:Exposición individual de la artista británica Georgina Hill
END:VEVENT
BEGIN:VEVENT
DTSTAMP:20260421T234603Z
UID:event-2382-2022-07-28T18:00:00+02:00-2022-07-28T21:00:00+02:00
DTSTART;TZID=Europe/Madrid:20220728T180000
DTEND;TZID=Europe/Madrid:20220728T210000
DESCRIPTION:fluent presenta “Me recuesto sobre la campanilla de una prím
 ula”\, una exposición individual de la artista británica Georgina Hill
 .
SUMMARY:Exposición individual de la artista británica Georgina Hill
END:VEVENT
BEGIN:VEVENT
DTSTAMP:20260421T234603Z
UID:event-2382-2022-07-29T18:00:00+02:00-2022-07-29T21:00:00+02:00
DTSTART;TZID=Europe/Madrid:20220729T180000
DTEND;TZID=Europe/Madrid:20220729T210000
DESCRIPTION:fluent presenta “Me recuesto sobre la campanilla de una prím
 ula”\, una exposición individual de la artista británica Georgina Hill
 .
SUMMARY:Exposición individual de la artista británica Georgina Hill
END:VEVENT
BEGIN:VEVENT
DTSTAMP:20260421T234603Z
UID:event-2382-2022-07-30T18:00:00+02:00-2022-07-30T21:00:00+02:00
DTSTART;TZID=Europe/Madrid:20220730T180000
DTEND;TZID=Europe/Madrid:20220730T210000
DESCRIPTION:fluent presenta “Me recuesto sobre la campanilla de una prím
 ula”\, una exposición individual de la artista británica Georgina Hill
 .
SUMMARY:Exposición individual de la artista británica Georgina Hill
END:VEVENT
BEGIN:VEVENT
DTSTAMP:20260421T234603Z
UID:event-2382-2022-07-31T18:00:00+02:00-2022-07-31T21:00:00+02:00
DTSTART;TZID=Europe/Madrid:20220731T180000
DTEND;TZID=Europe/Madrid:20220731T210000
DESCRIPTION:fluent presenta “Me recuesto sobre la campanilla de una prím
 ula”\, una exposición individual de la artista británica Georgina Hill
 .
SUMMARY:Exposición individual de la artista británica Georgina Hill
END:VEVENT
BEGIN:VEVENT
DTSTAMP:20260421T234603Z
UID:event-2382-2022-08-01T18:00:00+02:00-2022-08-01T21:00:00+02:00
DTSTART;TZID=Europe/Madrid:20220801T180000
DTEND;TZID=Europe/Madrid:20220801T210000
DESCRIPTION:fluent presenta “Me recuesto sobre la campanilla de una prím
 ula”\, una exposición individual de la artista británica Georgina Hill
 .
SUMMARY:Exposición individual de la artista británica Georgina Hill
END:VEVENT
BEGIN:VEVENT
DTSTAMP:20260421T234603Z
UID:event-2382-2022-08-02T18:00:00+02:00-2022-08-02T21:00:00+02:00
DTSTART;TZID=Europe/Madrid:20220802T180000
DTEND;TZID=Europe/Madrid:20220802T210000
DESCRIPTION:fluent presenta “Me recuesto sobre la campanilla de una prím
 ula”\, una exposición individual de la artista británica Georgina Hill
 .
SUMMARY:Exposición individual de la artista británica Georgina Hill
END:VEVENT
BEGIN:VEVENT
DTSTAMP:20260421T234603Z
UID:event-2382-2022-08-03T18:00:00+02:00-2022-08-03T21:00:00+02:00
DTSTART;TZID=Europe/Madrid:20220803T180000
DTEND;TZID=Europe/Madrid:20220803T210000
DESCRIPTION:fluent presenta “Me recuesto sobre la campanilla de una prím
 ula”\, una exposición individual de la artista británica Georgina Hill
 .
SUMMARY:Exposición individual de la artista británica Georgina Hill
END:VEVENT
BEGIN:VEVENT
DTSTAMP:20260421T234603Z
UID:event-2382-2022-08-04T18:00:00+02:00-2022-08-04T21:00:00+02:00
DTSTART;TZID=Europe/Madrid:20220804T180000
DTEND;TZID=Europe/Madrid:20220804T210000
DESCRIPTION:fluent presenta “Me recuesto sobre la campanilla de una prím
 ula”\, una exposición individual de la artista británica Georgina Hill
 .
SUMMARY:Exposición individual de la artista británica Georgina Hill
END:VEVENT
BEGIN:VEVENT
DTSTAMP:20260421T234603Z
UID:event-2382-2022-08-05T18:00:00+02:00-2022-08-05T21:00:00+02:00
DTSTART;TZID=Europe/Madrid:20220805T180000
DTEND;TZID=Europe/Madrid:20220805T210000
DESCRIPTION:fluent presenta “Me recuesto sobre la campanilla de una prím
 ula”\, una exposición individual de la artista británica Georgina Hill
 .
SUMMARY:Exposición individual de la artista británica Georgina Hill
END:VEVENT
BEGIN:VEVENT
DTSTAMP:20260421T234603Z
UID:event-2382-2022-08-06T18:00:00+02:00-2022-08-06T21:00:00+02:00
DTSTART;TZID=Europe/Madrid:20220806T180000
DTEND;TZID=Europe/Madrid:20220806T210000
DESCRIPTION:fluent presenta “Me recuesto sobre la campanilla de una prím
 ula”\, una exposición individual de la artista británica Georgina Hill
 .
SUMMARY:Exposición individual de la artista británica Georgina Hill
END:VEVENT
BEGIN:VEVENT
DTSTAMP:20260421T234603Z
UID:event-2382-2022-08-07T18:00:00+02:00-2022-08-07T21:00:00+02:00
DTSTART;TZID=Europe/Madrid:20220807T180000
DTEND;TZID=Europe/Madrid:20220807T210000
DESCRIPTION:fluent presenta “Me recuesto sobre la campanilla de una prím
 ula”\, una exposición individual de la artista británica Georgina Hill
 .
SUMMARY:Exposición individual de la artista británica Georgina Hill
END:VEVENT
BEGIN:VEVENT
DTSTAMP:20260421T234603Z
UID:event-2382-2022-08-08T18:00:00+02:00-2022-08-08T21:00:00+02:00
DTSTART;TZID=Europe/Madrid:20220808T180000
DTEND;TZID=Europe/Madrid:20220808T210000
DESCRIPTION:fluent presenta “Me recuesto sobre la campanilla de una prím
 ula”\, una exposición individual de la artista británica Georgina Hill
 .
SUMMARY:Exposición individual de la artista británica Georgina Hill
END:VEVENT
BEGIN:VEVENT
DTSTAMP:20260421T234603Z
UID:event-2382-2022-08-09T18:00:00+02:00-2022-08-09T21:00:00+02:00
DTSTART;TZID=Europe/Madrid:20220809T180000
DTEND;TZID=Europe/Madrid:20220809T210000
DESCRIPTION:fluent presenta “Me recuesto sobre la campanilla de una prím
 ula”\, una exposición individual de la artista británica Georgina Hill
 .
SUMMARY:Exposición individual de la artista británica Georgina Hill
END:VEVENT
BEGIN:VEVENT
DTSTAMP:20260421T234603Z
UID:event-2382-2022-08-10T18:00:00+02:00-2022-08-10T21:00:00+02:00
DTSTART;TZID=Europe/Madrid:20220810T180000
DTEND;TZID=Europe/Madrid:20220810T210000
DESCRIPTION:fluent presenta “Me recuesto sobre la campanilla de una prím
 ula”\, una exposición individual de la artista británica Georgina Hill
 .
SUMMARY:Exposición individual de la artista británica Georgina Hill
END:VEVENT
BEGIN:VEVENT
DTSTAMP:20260421T234603Z
UID:event-2382-2022-08-11T18:00:00+02:00-2022-08-11T21:00:00+02:00
DTSTART;TZID=Europe/Madrid:20220811T180000
DTEND;TZID=Europe/Madrid:20220811T210000
DESCRIPTION:fluent presenta “Me recuesto sobre la campanilla de una prím
 ula”\, una exposición individual de la artista británica Georgina Hill
 .
SUMMARY:Exposición individual de la artista británica Georgina Hill
END:VEVENT
BEGIN:VEVENT
DTSTAMP:20260421T234603Z
UID:event-2382-2022-08-12T18:00:00+02:00-2022-08-12T21:00:00+02:00
DTSTART;TZID=Europe/Madrid:20220812T180000
DTEND;TZID=Europe/Madrid:20220812T210000
DESCRIPTION:fluent presenta “Me recuesto sobre la campanilla de una prím
 ula”\, una exposición individual de la artista británica Georgina Hill
 .
SUMMARY:Exposición individual de la artista británica Georgina Hill
END:VEVENT
BEGIN:VEVENT
DTSTAMP:20260421T234603Z
UID:event-2382-2022-08-13T18:00:00+02:00-2022-08-13T21:00:00+02:00
DTSTART;TZID=Europe/Madrid:20220813T180000
DTEND;TZID=Europe/Madrid:20220813T210000
DESCRIPTION:fluent presenta “Me recuesto sobre la campanilla de una prím
 ula”\, una exposición individual de la artista británica Georgina Hill
 .
SUMMARY:Exposición individual de la artista británica Georgina Hill
END:VEVENT
BEGIN:VEVENT
DTSTAMP:20260421T234603Z
UID:event-2382-2022-08-14T18:00:00+02:00-2022-08-14T21:00:00+02:00
DTSTART;TZID=Europe/Madrid:20220814T180000
DTEND;TZID=Europe/Madrid:20220814T210000
DESCRIPTION:fluent presenta “Me recuesto sobre la campanilla de una prím
 ula”\, una exposición individual de la artista británica Georgina Hill
 .
SUMMARY:Exposición individual de la artista británica Georgina Hill
END:VEVENT
BEGIN:VEVENT
DTSTAMP:20260421T234603Z
UID:event-2382-2022-08-15T18:00:00+02:00-2022-08-15T21:00:00+02:00
DTSTART;TZID=Europe/Madrid:20220815T180000
DTEND;TZID=Europe/Madrid:20220815T210000
DESCRIPTION:fluent presenta “Me recuesto sobre la campanilla de una prím
 ula”\, una exposición individual de la artista británica Georgina Hill
 .
SUMMARY:Exposición individual de la artista británica Georgina Hill
END:VEVENT
BEGIN:VEVENT
DTSTAMP:20260421T234603Z
UID:event-2382-2022-08-16T18:00:00+02:00-2022-08-16T21:00:00+02:00
DTSTART;TZID=Europe/Madrid:20220816T180000
DTEND;TZID=Europe/Madrid:20220816T210000
DESCRIPTION:fluent presenta “Me recuesto sobre la campanilla de una prím
 ula”\, una exposición individual de la artista británica Georgina Hill
 .
SUMMARY:Exposición individual de la artista británica Georgina Hill
END:VEVENT
BEGIN:VEVENT
DTSTAMP:20260421T234603Z
UID:event-2382-2022-08-17T18:00:00+02:00-2022-08-17T21:00:00+02:00
DTSTART;TZID=Europe/Madrid:20220817T180000
DTEND;TZID=Europe/Madrid:20220817T210000
DESCRIPTION:fluent presenta “Me recuesto sobre la campanilla de una prím
 ula”\, una exposición individual de la artista británica Georgina Hill
 .
SUMMARY:Exposición individual de la artista británica Georgina Hill
END:VEVENT
BEGIN:VEVENT
DTSTAMP:20260421T234603Z
UID:event-2382-2022-08-18T18:00:00+02:00-2022-08-18T21:00:00+02:00
DTSTART;TZID=Europe/Madrid:20220818T180000
DTEND;TZID=Europe/Madrid:20220818T210000
DESCRIPTION:fluent presenta “Me recuesto sobre la campanilla de una prím
 ula”\, una exposición individual de la artista británica Georgina Hill
 .
SUMMARY:Exposición individual de la artista británica Georgina Hill
END:VEVENT
BEGIN:VEVENT
DTSTAMP:20260421T234603Z
UID:event-2382-2022-08-19T18:00:00+02:00-2022-08-19T21:00:00+02:00
DTSTART;TZID=Europe/Madrid:20220819T180000
DTEND;TZID=Europe/Madrid:20220819T210000
DESCRIPTION:fluent presenta “Me recuesto sobre la campanilla de una prím
 ula”\, una exposición individual de la artista británica Georgina Hill
 .
SUMMARY:Exposición individual de la artista británica Georgina Hill
END:VEVENT
BEGIN:VEVENT
DTSTAMP:20260421T234603Z
UID:event-2382-2022-08-20T18:00:00+02:00-2022-08-20T21:00:00+02:00
DTSTART;TZID=Europe/Madrid:20220820T180000
DTEND;TZID=Europe/Madrid:20220820T210000
DESCRIPTION:fluent presenta “Me recuesto sobre la campanilla de una prím
 ula”\, una exposición individual de la artista británica Georgina Hill
 .
SUMMARY:Exposición individual de la artista británica Georgina Hill
END:VEVENT
BEGIN:VEVENT
DTSTAMP:20260421T234603Z
UID:event-2382-2022-08-21T18:00:00+02:00-2022-08-21T21:00:00+02:00
DTSTART;TZID=Europe/Madrid:20220821T180000
DTEND;TZID=Europe/Madrid:20220821T210000
DESCRIPTION:fluent presenta “Me recuesto sobre la campanilla de una prím
 ula”\, una exposición individual de la artista británica Georgina Hill
 .
SUMMARY:Exposición individual de la artista británica Georgina Hill
END:VEVENT
BEGIN:VEVENT
DTSTAMP:20260421T234603Z
UID:event-2382-2022-08-22T18:00:00+02:00-2022-08-22T21:00:00+02:00
DTSTART;TZID=Europe/Madrid:20220822T180000
DTEND;TZID=Europe/Madrid:20220822T210000
DESCRIPTION:fluent presenta “Me recuesto sobre la campanilla de una prím
 ula”\, una exposición individual de la artista británica Georgina Hill
 .
SUMMARY:Exposición individual de la artista británica Georgina Hill
END:VEVENT
BEGIN:VEVENT
DTSTAMP:20260421T234603Z
UID:event-2382-2022-08-23T18:00:00+02:00-2022-08-23T21:00:00+02:00
DTSTART;TZID=Europe/Madrid:20220823T180000
DTEND;TZID=Europe/Madrid:20220823T210000
DESCRIPTION:fluent presenta “Me recuesto sobre la campanilla de una prím
 ula”\, una exposición individual de la artista británica Georgina Hill
 .
SUMMARY:Exposición individual de la artista británica Georgina Hill
END:VEVENT
BEGIN:VEVENT
DTSTAMP:20260421T234603Z
UID:event-2382-2022-08-24T18:00:00+02:00-2022-08-24T21:00:00+02:00
DTSTART;TZID=Europe/Madrid:20220824T180000
DTEND;TZID=Europe/Madrid:20220824T210000
DESCRIPTION:fluent presenta “Me recuesto sobre la campanilla de una prím
 ula”\, una exposición individual de la artista británica Georgina Hill
 .
SUMMARY:Exposición individual de la artista británica Georgina Hill
END:VEVENT
BEGIN:VEVENT
DTSTAMP:20260421T234603Z
UID:event-2382-2022-08-25T18:00:00+02:00-2022-08-25T21:00:00+02:00
DTSTART;TZID=Europe/Madrid:20220825T180000
DTEND;TZID=Europe/Madrid:20220825T210000
DESCRIPTION:fluent presenta “Me recuesto sobre la campanilla de una prím
 ula”\, una exposición individual de la artista británica Georgina Hill
 .
SUMMARY:Exposición individual de la artista británica Georgina Hill
END:VEVENT
BEGIN:VEVENT
DTSTAMP:20260421T234603Z
UID:event-2382-2022-08-26T18:00:00+02:00-2022-08-26T21:00:00+02:00
DTSTART;TZID=Europe/Madrid:20220826T180000
DTEND;TZID=Europe/Madrid:20220826T210000
DESCRIPTION:fluent presenta “Me recuesto sobre la campanilla de una prím
 ula”\, una exposición individual de la artista británica Georgina Hill
 .
SUMMARY:Exposición individual de la artista británica Georgina Hill
END:VEVENT
BEGIN:VEVENT
DTSTAMP:20260421T234603Z
UID:event-2382-2022-08-27T18:00:00+02:00-2022-08-27T21:00:00+02:00
DTSTART;TZID=Europe/Madrid:20220827T180000
DTEND;TZID=Europe/Madrid:20220827T210000
DESCRIPTION:fluent presenta “Me recuesto sobre la campanilla de una prím
 ula”\, una exposición individual de la artista británica Georgina Hill
 .
SUMMARY:Exposición individual de la artista británica Georgina Hill
END:VEVENT
BEGIN:VEVENT
DTSTAMP:20260421T234603Z
UID:event-2382-2022-08-28T18:00:00+02:00-2022-08-28T21:00:00+02:00
DTSTART;TZID=Europe/Madrid:20220828T180000
DTEND;TZID=Europe/Madrid:20220828T210000
DESCRIPTION:fluent presenta “Me recuesto sobre la campanilla de una prím
 ula”\, una exposición individual de la artista británica Georgina Hill
 .
SUMMARY:Exposición individual de la artista británica Georgina Hill
END:VEVENT
BEGIN:VEVENT
DTSTAMP:20260421T234603Z
UID:event-2382-2022-08-29T18:00:00+02:00-2022-08-29T21:00:00+02:00
DTSTART;TZID=Europe/Madrid:20220829T180000
DTEND;TZID=Europe/Madrid:20220829T210000
DESCRIPTION:fluent presenta “Me recuesto sobre la campanilla de una prím
 ula”\, una exposición individual de la artista británica Georgina Hill
 .
SUMMARY:Exposición individual de la artista británica Georgina Hill
END:VEVENT
BEGIN:VEVENT
DTSTAMP:20260421T234603Z
UID:event-2382-2022-08-30T18:00:00+02:00-2022-08-30T21:00:00+02:00
DTSTART;TZID=Europe/Madrid:20220830T180000
DTEND;TZID=Europe/Madrid:20220830T210000
DESCRIPTION:fluent presenta “Me recuesto sobre la campanilla de una prím
 ula”\, una exposición individual de la artista británica Georgina Hill
 .
SUMMARY:Exposición individual de la artista británica Georgina Hill
END:VEVENT
BEGIN:VEVENT
DTSTAMP:20260421T234603Z
UID:event-2382-2022-08-31T18:00:00+02:00-2022-08-31T21:00:00+02:00
DTSTART;TZID=Europe/Madrid:20220831T180000
DTEND;TZID=Europe/Madrid:20220831T210000
DESCRIPTION:fluent presenta “Me recuesto sobre la campanilla de una prím
 ula”\, una exposición individual de la artista británica Georgina Hill
 .
SUMMARY:Exposición individual de la artista británica Georgina Hill
END:VEVENT
BEGIN:VEVENT
DTSTAMP:20260421T234603Z
UID:event-2382-2022-09-01T18:00:00+02:00-2022-09-01T21:00:00+02:00
DTSTART;TZID=Europe/Madrid:20220901T180000
DTEND;TZID=Europe/Madrid:20220901T210000
DESCRIPTION:fluent presenta “Me recuesto sobre la campanilla de una prím
 ula”\, una exposición individual de la artista británica Georgina Hill
 .
SUMMARY:Exposición individual de la artista británica Georgina Hill
END:VEVENT
BEGIN:VEVENT
DTSTAMP:20260421T234603Z
UID:event-2382-2022-09-02T18:00:00+02:00-2022-09-02T21:00:00+02:00
DTSTART;TZID=Europe/Madrid:20220902T180000
DTEND;TZID=Europe/Madrid:20220902T210000
DESCRIPTION:fluent presenta “Me recuesto sobre la campanilla de una prím
 ula”\, una exposición individual de la artista británica Georgina Hill
 .
SUMMARY:Exposición individual de la artista británica Georgina Hill
END:VEVENT
BEGIN:VEVENT
DTSTAMP:20260421T234603Z
UID:event-2382-2022-09-03T18:00:00+02:00-2022-09-03T21:00:00+02:00
DTSTART;TZID=Europe/Madrid:20220903T180000
DTEND;TZID=Europe/Madrid:20220903T210000
DESCRIPTION:fluent presenta “Me recuesto sobre la campanilla de una prím
 ula”\, una exposición individual de la artista británica Georgina Hill
 .
SUMMARY:Exposición individual de la artista británica Georgina Hill
END:VEVENT
BEGIN:VEVENT
DTSTAMP:20260421T234603Z
UID:event-2382-2022-09-04T18:00:00+02:00-2022-09-04T21:00:00+02:00
DTSTART;TZID=Europe/Madrid:20220904T180000
DTEND;TZID=Europe/Madrid:20220904T210000
DESCRIPTION:fluent presenta “Me recuesto sobre la campanilla de una prím
 ula”\, una exposición individual de la artista británica Georgina Hill
 .
SUMMARY:Exposición individual de la artista británica Georgina Hill
END:VEVENT
BEGIN:VEVENT
DTSTAMP:20260421T234603Z
UID:event-2382-2022-09-05T18:00:00+02:00-2022-09-05T21:00:00+02:00
DTSTART;TZID=Europe/Madrid:20220905T180000
DTEND;TZID=Europe/Madrid:20220905T210000
DESCRIPTION:fluent presenta “Me recuesto sobre la campanilla de una prím
 ula”\, una exposición individual de la artista británica Georgina Hill
 .
SUMMARY:Exposición individual de la artista británica Georgina Hill
END:VEVENT
BEGIN:VEVENT
DTSTAMP:20260421T234603Z
UID:event-2382-2022-09-06T18:00:00+02:00-2022-09-06T21:00:00+02:00
DTSTART;TZID=Europe/Madrid:20220906T180000
DTEND;TZID=Europe/Madrid:20220906T210000
DESCRIPTION:fluent presenta “Me recuesto sobre la campanilla de una prím
 ula”\, una exposición individual de la artista británica Georgina Hill
 .
SUMMARY:Exposición individual de la artista británica Georgina Hill
END:VEVENT
BEGIN:VEVENT
DTSTAMP:20260421T234603Z
UID:event-2382-2022-09-07T18:00:00+02:00-2022-09-07T21:00:00+02:00
DTSTART;TZID=Europe/Madrid:20220907T180000
DTEND;TZID=Europe/Madrid:20220907T210000
DESCRIPTION:fluent presenta “Me recuesto sobre la campanilla de una prím
 ula”\, una exposición individual de la artista británica Georgina Hill
 .
SUMMARY:Exposición individual de la artista británica Georgina Hill
END:VEVENT
BEGIN:VEVENT
DTSTAMP:20260421T234603Z
UID:event-2382-2022-09-08T18:00:00+02:00-2022-09-08T21:00:00+02:00
DTSTART;TZID=Europe/Madrid:20220908T180000
DTEND;TZID=Europe/Madrid:20220908T210000
DESCRIPTION:fluent presenta “Me recuesto sobre la campanilla de una prím
 ula”\, una exposición individual de la artista británica Georgina Hill
 .
SUMMARY:Exposición individual de la artista británica Georgina Hill
END:VEVENT
BEGIN:VEVENT
DTSTAMP:20260421T234603Z
UID:event-2382-2022-09-09T18:00:00+02:00-2022-09-09T21:00:00+02:00
DTSTART;TZID=Europe/Madrid:20220909T180000
DTEND;TZID=Europe/Madrid:20220909T210000
DESCRIPTION:fluent presenta “Me recuesto sobre la campanilla de una prím
 ula”\, una exposición individual de la artista británica Georgina Hill
 .
SUMMARY:Exposición individual de la artista británica Georgina Hill
END:VEVENT
BEGIN:VEVENT
DTSTAMP:20260421T234603Z
UID:event-2382-2022-09-10T18:00:00+02:00-2022-09-10T21:00:00+02:00
DTSTART;TZID=Europe/Madrid:20220910T180000
DTEND;TZID=Europe/Madrid:20220910T210000
DESCRIPTION:fluent presenta “Me recuesto sobre la campanilla de una prím
 ula”\, una exposición individual de la artista británica Georgina Hill
 .
SUMMARY:Exposición individual de la artista británica Georgina Hill
END:VEVENT
BEGIN:VEVENT
DTSTAMP:20260421T234603Z
UID:event-2382-2022-09-11T18:00:00+02:00-2022-09-11T21:00:00+02:00
DTSTART;TZID=Europe/Madrid:20220911T180000
DTEND;TZID=Europe/Madrid:20220911T210000
DESCRIPTION:fluent presenta “Me recuesto sobre la campanilla de una prím
 ula”\, una exposición individual de la artista británica Georgina Hill
 .
SUMMARY:Exposición individual de la artista británica Georgina Hill
END:VEVENT
BEGIN:VEVENT
DTSTAMP:20260421T234603Z
UID:event-2382-2022-09-12T18:00:00+02:00-2022-09-12T21:00:00+02:00
DTSTART;TZID=Europe/Madrid:20220912T180000
DTEND;TZID=Europe/Madrid:20220912T210000
DESCRIPTION:fluent presenta “Me recuesto sobre la campanilla de una prím
 ula”\, una exposición individual de la artista británica Georgina Hill
 .
SUMMARY:Exposición individual de la artista británica Georgina Hill
END:VEVENT
BEGIN:VEVENT
DTSTAMP:20260421T234603Z
UID:event-2382-2022-09-13T18:00:00+02:00-2022-09-13T21:00:00+02:00
DTSTART;TZID=Europe/Madrid:20220913T180000
DTEND;TZID=Europe/Madrid:20220913T210000
DESCRIPTION:fluent presenta “Me recuesto sobre la campanilla de una prím
 ula”\, una exposición individual de la artista británica Georgina Hill
 .
SUMMARY:Exposición individual de la artista británica Georgina Hill
END:VEVENT
BEGIN:VEVENT
DTSTAMP:20260421T234603Z
UID:event-2382-2022-09-14T18:00:00+02:00-2022-09-14T21:00:00+02:00
DTSTART;TZID=Europe/Madrid:20220914T180000
DTEND;TZID=Europe/Madrid:20220914T210000
DESCRIPTION:fluent presenta “Me recuesto sobre la campanilla de una prím
 ula”\, una exposición individual de la artista británica Georgina Hill
 .
SUMMARY:Exposición individual de la artista británica Georgina Hill
END:VEVENT
BEGIN:VEVENT
DTSTAMP:20260421T234603Z
UID:event-2382-2022-09-15T18:00:00+02:00-2022-09-15T21:00:00+02:00
DTSTART;TZID=Europe/Madrid:20220915T180000
DTEND;TZID=Europe/Madrid:20220915T210000
DESCRIPTION:fluent presenta “Me recuesto sobre la campanilla de una prím
 ula”\, una exposición individual de la artista británica Georgina Hill
 .
SUMMARY:Exposición individual de la artista británica Georgina Hill
END:VEVENT
BEGIN:VEVENT
DTSTAMP:20260421T234603Z
UID:event-2382-2022-09-16T18:00:00+02:00-2022-09-16T21:00:00+02:00
DTSTART;TZID=Europe/Madrid:20220916T180000
DTEND;TZID=Europe/Madrid:20220916T210000
DESCRIPTION:fluent presenta “Me recuesto sobre la campanilla de una prím
 ula”\, una exposición individual de la artista británica Georgina Hill
 .
SUMMARY:Exposición individual de la artista británica Georgina Hill
END:VEVENT
END:VCALENDAR
