BEGIN:VCALENDAR
VERSION:2.0
PRODID:icalendar-ruby
CALSCALE:GREGORIAN
METHOD:PUBLISH
BEGIN:VEVENT
DTSTAMP:20260421T202817Z
UID:event-7805-2023-10-17T19:30:00+02:00-none
DTSTART;TZID=Europe/Madrid:20231017T193000
DESCRIPTION:La última conferencia del ciclo tendrá lugar el 17 de octubre
  a las 19:30h. En esta cita\, José Luis Ramírez de Sádaba\, catedrátic
 o de Historia Antigua de la UC\, nos acercará la faceta de historiador de
  González Echagaray.
SUMMARY:"González Echegaray\, el historiador"\, por José Luis Ramírez
END:VEVENT
END:VCALENDAR
