BEGIN:VCALENDAR
VERSION:2.0
PRODID:icalendar-ruby
CALSCALE:GREGORIAN
METHOD:PUBLISH
BEGIN:VEVENT
DTSTAMP:20260421T233958Z
UID:event-2742-2022-08-19T18:10:00+02:00-none
DTSTART;TZID=Europe/Madrid:20220819T181000
DESCRIPTION:En 1906 una joven madre\, Hanna\, no quiere más que liberarse 
 de su papel burgués y sus limitaciones sociales. Huye al sanatorio Monte 
 Verità\, donde\, rodeada de la naturaleza idílica del cantón del Tesino
 .
SUMMARY:"La fotógrafa de Monte Veritá"\, de Stefan Jäger
END:VEVENT
BEGIN:VEVENT
DTSTAMP:20260421T233958Z
UID:event-2742-2022-08-20T18:10:00+02:00-none
DTSTART;TZID=Europe/Madrid:20220820T181000
DESCRIPTION:En 1906 una joven madre\, Hanna\, no quiere más que liberarse 
 de su papel burgués y sus limitaciones sociales. Huye al sanatorio Monte 
 Verità\, donde\, rodeada de la naturaleza idílica del cantón del Tesino
 .
SUMMARY:"La fotógrafa de Monte Veritá"\, de Stefan Jäger
END:VEVENT
BEGIN:VEVENT
DTSTAMP:20260421T233958Z
UID:event-2742-2022-08-21T18:10:00+02:00-none
DTSTART;TZID=Europe/Madrid:20220821T181000
DESCRIPTION:En 1906 una joven madre\, Hanna\, no quiere más que liberarse 
 de su papel burgués y sus limitaciones sociales. Huye al sanatorio Monte 
 Verità\, donde\, rodeada de la naturaleza idílica del cantón del Tesino
 .
SUMMARY:"La fotógrafa de Monte Veritá"\, de Stefan Jäger
END:VEVENT
BEGIN:VEVENT
DTSTAMP:20260421T233958Z
UID:event-2742-2022-08-22T18:10:00+02:00-none
DTSTART;TZID=Europe/Madrid:20220822T181000
DESCRIPTION:En 1906 una joven madre\, Hanna\, no quiere más que liberarse 
 de su papel burgués y sus limitaciones sociales. Huye al sanatorio Monte 
 Verità\, donde\, rodeada de la naturaleza idílica del cantón del Tesino
 .
SUMMARY:"La fotógrafa de Monte Veritá"\, de Stefan Jäger
END:VEVENT
BEGIN:VEVENT
DTSTAMP:20260421T233958Z
UID:event-2742-2022-08-23T18:10:00+02:00-none
DTSTART;TZID=Europe/Madrid:20220823T181000
DESCRIPTION:En 1906 una joven madre\, Hanna\, no quiere más que liberarse 
 de su papel burgués y sus limitaciones sociales. Huye al sanatorio Monte 
 Verità\, donde\, rodeada de la naturaleza idílica del cantón del Tesino
 .
SUMMARY:"La fotógrafa de Monte Veritá"\, de Stefan Jäger
END:VEVENT
BEGIN:VEVENT
DTSTAMP:20260421T233958Z
UID:event-2742-2022-08-24T18:10:00+02:00-none
DTSTART;TZID=Europe/Madrid:20220824T181000
DESCRIPTION:En 1906 una joven madre\, Hanna\, no quiere más que liberarse 
 de su papel burgués y sus limitaciones sociales. Huye al sanatorio Monte 
 Verità\, donde\, rodeada de la naturaleza idílica del cantón del Tesino
 .
SUMMARY:"La fotógrafa de Monte Veritá"\, de Stefan Jäger
END:VEVENT
BEGIN:VEVENT
DTSTAMP:20260421T233958Z
UID:event-2742-2022-08-25T18:10:00+02:00-none
DTSTART;TZID=Europe/Madrid:20220825T181000
DESCRIPTION:En 1906 una joven madre\, Hanna\, no quiere más que liberarse 
 de su papel burgués y sus limitaciones sociales. Huye al sanatorio Monte 
 Verità\, donde\, rodeada de la naturaleza idílica del cantón del Tesino
 .
SUMMARY:"La fotógrafa de Monte Veritá"\, de Stefan Jäger
END:VEVENT
END:VCALENDAR
