BEGIN:VCALENDAR
VERSION:2.0
PRODID:icalendar-ruby
CALSCALE:GREGORIAN
METHOD:PUBLISH
BEGIN:VEVENT
DTSTAMP:20260421T235139Z
UID:event-2741-2022-08-19T16:20:00+02:00-none
DTSTART;TZID=Europe/Madrid:20220819T162000
DESCRIPTION:Reem\, una joven madre palestina casada con un hombre celoso\, 
 acude a la peluquería de su amiga Huda\, en Belén y lo que debía ser un
 a visita rutinaria se convierte en una desagradable experiencia. 
SUMMARY: "La traición de Huda”\, de Hany Abu-Assad 
END:VEVENT
BEGIN:VEVENT
DTSTAMP:20260421T235139Z
UID:event-2741-2022-08-19T18:10:00+02:00-none
DTSTART;TZID=Europe/Madrid:20220819T181000
DESCRIPTION:Reem\, una joven madre palestina casada con un hombre celoso\, 
 acude a la peluquería de su amiga Huda\, en Belén y lo que debía ser un
 a visita rutinaria se convierte en una desagradable experiencia. 
SUMMARY: "La traición de Huda”\, de Hany Abu-Assad 
END:VEVENT
BEGIN:VEVENT
DTSTAMP:20260421T235139Z
UID:event-2741-2022-08-20T16:20:00+02:00-none
DTSTART;TZID=Europe/Madrid:20220820T162000
DESCRIPTION:Reem\, una joven madre palestina casada con un hombre celoso\, 
 acude a la peluquería de su amiga Huda\, en Belén y lo que debía ser un
 a visita rutinaria se convierte en una desagradable experiencia. 
SUMMARY: "La traición de Huda”\, de Hany Abu-Assad 
END:VEVENT
BEGIN:VEVENT
DTSTAMP:20260421T235139Z
UID:event-2741-2022-08-20T18:10:00+02:00-none
DTSTART;TZID=Europe/Madrid:20220820T181000
DESCRIPTION:Reem\, una joven madre palestina casada con un hombre celoso\, 
 acude a la peluquería de su amiga Huda\, en Belén y lo que debía ser un
 a visita rutinaria se convierte en una desagradable experiencia. 
SUMMARY: "La traición de Huda”\, de Hany Abu-Assad 
END:VEVENT
BEGIN:VEVENT
DTSTAMP:20260421T235139Z
UID:event-2741-2022-08-21T16:20:00+02:00-none
DTSTART;TZID=Europe/Madrid:20220821T162000
DESCRIPTION:Reem\, una joven madre palestina casada con un hombre celoso\, 
 acude a la peluquería de su amiga Huda\, en Belén y lo que debía ser un
 a visita rutinaria se convierte en una desagradable experiencia. 
SUMMARY: "La traición de Huda”\, de Hany Abu-Assad 
END:VEVENT
BEGIN:VEVENT
DTSTAMP:20260421T235139Z
UID:event-2741-2022-08-21T18:10:00+02:00-none
DTSTART;TZID=Europe/Madrid:20220821T181000
DESCRIPTION:Reem\, una joven madre palestina casada con un hombre celoso\, 
 acude a la peluquería de su amiga Huda\, en Belén y lo que debía ser un
 a visita rutinaria se convierte en una desagradable experiencia. 
SUMMARY: "La traición de Huda”\, de Hany Abu-Assad 
END:VEVENT
BEGIN:VEVENT
DTSTAMP:20260421T235139Z
UID:event-2741-2022-08-22T16:20:00+02:00-none
DTSTART;TZID=Europe/Madrid:20220822T162000
DESCRIPTION:Reem\, una joven madre palestina casada con un hombre celoso\, 
 acude a la peluquería de su amiga Huda\, en Belén y lo que debía ser un
 a visita rutinaria se convierte en una desagradable experiencia. 
SUMMARY: "La traición de Huda”\, de Hany Abu-Assad 
END:VEVENT
BEGIN:VEVENT
DTSTAMP:20260421T235139Z
UID:event-2741-2022-08-22T18:10:00+02:00-none
DTSTART;TZID=Europe/Madrid:20220822T181000
DESCRIPTION:Reem\, una joven madre palestina casada con un hombre celoso\, 
 acude a la peluquería de su amiga Huda\, en Belén y lo que debía ser un
 a visita rutinaria se convierte en una desagradable experiencia. 
SUMMARY: "La traición de Huda”\, de Hany Abu-Assad 
END:VEVENT
BEGIN:VEVENT
DTSTAMP:20260421T235139Z
UID:event-2741-2022-08-23T16:20:00+02:00-none
DTSTART;TZID=Europe/Madrid:20220823T162000
DESCRIPTION:Reem\, una joven madre palestina casada con un hombre celoso\, 
 acude a la peluquería de su amiga Huda\, en Belén y lo que debía ser un
 a visita rutinaria se convierte en una desagradable experiencia. 
SUMMARY: "La traición de Huda”\, de Hany Abu-Assad 
END:VEVENT
BEGIN:VEVENT
DTSTAMP:20260421T235139Z
UID:event-2741-2022-08-23T18:10:00+02:00-none
DTSTART;TZID=Europe/Madrid:20220823T181000
DESCRIPTION:Reem\, una joven madre palestina casada con un hombre celoso\, 
 acude a la peluquería de su amiga Huda\, en Belén y lo que debía ser un
 a visita rutinaria se convierte en una desagradable experiencia. 
SUMMARY: "La traición de Huda”\, de Hany Abu-Assad 
END:VEVENT
BEGIN:VEVENT
DTSTAMP:20260421T235139Z
UID:event-2741-2022-08-24T16:20:00+02:00-none
DTSTART;TZID=Europe/Madrid:20220824T162000
DESCRIPTION:Reem\, una joven madre palestina casada con un hombre celoso\, 
 acude a la peluquería de su amiga Huda\, en Belén y lo que debía ser un
 a visita rutinaria se convierte en una desagradable experiencia. 
SUMMARY: "La traición de Huda”\, de Hany Abu-Assad 
END:VEVENT
BEGIN:VEVENT
DTSTAMP:20260421T235139Z
UID:event-2741-2022-08-24T18:10:00+02:00-none
DTSTART;TZID=Europe/Madrid:20220824T181000
DESCRIPTION:Reem\, una joven madre palestina casada con un hombre celoso\, 
 acude a la peluquería de su amiga Huda\, en Belén y lo que debía ser un
 a visita rutinaria se convierte en una desagradable experiencia. 
SUMMARY: "La traición de Huda”\, de Hany Abu-Assad 
END:VEVENT
BEGIN:VEVENT
DTSTAMP:20260421T235139Z
UID:event-2741-2022-08-25T16:20:00+02:00-none
DTSTART;TZID=Europe/Madrid:20220825T162000
DESCRIPTION:Reem\, una joven madre palestina casada con un hombre celoso\, 
 acude a la peluquería de su amiga Huda\, en Belén y lo que debía ser un
 a visita rutinaria se convierte en una desagradable experiencia. 
SUMMARY: "La traición de Huda”\, de Hany Abu-Assad 
END:VEVENT
BEGIN:VEVENT
DTSTAMP:20260421T235139Z
UID:event-2741-2022-08-25T18:10:00+02:00-none
DTSTART;TZID=Europe/Madrid:20220825T181000
DESCRIPTION:Reem\, una joven madre palestina casada con un hombre celoso\, 
 acude a la peluquería de su amiga Huda\, en Belén y lo que debía ser un
 a visita rutinaria se convierte en una desagradable experiencia. 
SUMMARY: "La traición de Huda”\, de Hany Abu-Assad 
END:VEVENT
END:VCALENDAR
