BEGIN:VCALENDAR
VERSION:2.0
PRODID:icalendar-ruby
CALSCALE:GREGORIAN
METHOD:PUBLISH
BEGIN:VEVENT
DTSTAMP:20260421T235529Z
UID:event-2745-2022-08-19T19:50:00+02:00-none
DTSTART;TZID=Europe/Madrid:20220819T195000
DESCRIPTION:María Chapdelaine\, una joven de 16 años\, vive con su famili
 a en un terreno cerca del río Péribonka en el Quebec rural de principios
  de 1900. Como verdaderos pioneros\, la familia Chapdelaine se esfuerza po
 r hacer retroceder el bosque.
SUMMARY:"María Chapdelaine"\, dirigida por Sebastien Pilote (V.O.S.)
END:VEVENT
BEGIN:VEVENT
DTSTAMP:20260421T235529Z
UID:event-2745-2022-08-20T19:50:00+02:00-none
DTSTART;TZID=Europe/Madrid:20220820T195000
DESCRIPTION:María Chapdelaine\, una joven de 16 años\, vive con su famili
 a en un terreno cerca del río Péribonka en el Quebec rural de principios
  de 1900. Como verdaderos pioneros\, la familia Chapdelaine se esfuerza po
 r hacer retroceder el bosque.
SUMMARY:"María Chapdelaine"\, dirigida por Sebastien Pilote (V.O.S.)
END:VEVENT
BEGIN:VEVENT
DTSTAMP:20260421T235529Z
UID:event-2745-2022-08-21T19:50:00+02:00-none
DTSTART;TZID=Europe/Madrid:20220821T195000
DESCRIPTION:María Chapdelaine\, una joven de 16 años\, vive con su famili
 a en un terreno cerca del río Péribonka en el Quebec rural de principios
  de 1900. Como verdaderos pioneros\, la familia Chapdelaine se esfuerza po
 r hacer retroceder el bosque.
SUMMARY:"María Chapdelaine"\, dirigida por Sebastien Pilote (V.O.S.)
END:VEVENT
BEGIN:VEVENT
DTSTAMP:20260421T235529Z
UID:event-2745-2022-08-22T19:50:00+02:00-none
DTSTART;TZID=Europe/Madrid:20220822T195000
DESCRIPTION:María Chapdelaine\, una joven de 16 años\, vive con su famili
 a en un terreno cerca del río Péribonka en el Quebec rural de principios
  de 1900. Como verdaderos pioneros\, la familia Chapdelaine se esfuerza po
 r hacer retroceder el bosque.
SUMMARY:"María Chapdelaine"\, dirigida por Sebastien Pilote (V.O.S.)
END:VEVENT
BEGIN:VEVENT
DTSTAMP:20260421T235529Z
UID:event-2745-2022-08-23T19:50:00+02:00-none
DTSTART;TZID=Europe/Madrid:20220823T195000
DESCRIPTION:María Chapdelaine\, una joven de 16 años\, vive con su famili
 a en un terreno cerca del río Péribonka en el Quebec rural de principios
  de 1900. Como verdaderos pioneros\, la familia Chapdelaine se esfuerza po
 r hacer retroceder el bosque.
SUMMARY:"María Chapdelaine"\, dirigida por Sebastien Pilote (V.O.S.)
END:VEVENT
BEGIN:VEVENT
DTSTAMP:20260421T235529Z
UID:event-2745-2022-08-24T19:50:00+02:00-none
DTSTART;TZID=Europe/Madrid:20220824T195000
DESCRIPTION:María Chapdelaine\, una joven de 16 años\, vive con su famili
 a en un terreno cerca del río Péribonka en el Quebec rural de principios
  de 1900. Como verdaderos pioneros\, la familia Chapdelaine se esfuerza po
 r hacer retroceder el bosque.
SUMMARY:"María Chapdelaine"\, dirigida por Sebastien Pilote (V.O.S.)
END:VEVENT
BEGIN:VEVENT
DTSTAMP:20260421T235529Z
UID:event-2745-2022-08-25T19:50:00+02:00-none
DTSTART;TZID=Europe/Madrid:20220825T195000
DESCRIPTION:María Chapdelaine\, una joven de 16 años\, vive con su famili
 a en un terreno cerca del río Péribonka en el Quebec rural de principios
  de 1900. Como verdaderos pioneros\, la familia Chapdelaine se esfuerza po
 r hacer retroceder el bosque.
SUMMARY:"María Chapdelaine"\, dirigida por Sebastien Pilote (V.O.S.)
END:VEVENT
END:VCALENDAR
