BEGIN:VCALENDAR
VERSION:2.0
PRODID:icalendar-ruby
CALSCALE:GREGORIAN
METHOD:PUBLISH
BEGIN:VEVENT
DTSTAMP:20260421T234316Z
UID:event-2744-2022-08-19T22:30:00+02:00-none
DTSTART;TZID=Europe/Madrid:20220819T223000
DESCRIPTION:Fei se gana la vida en la gran ciudad trabajando en la prostitu
 ción. Su mundo se derrumba cuando se da cuenta de que su familia acepta s
 u dinero pero no su forma de vida ni su homosexualidad. 
SUMMARY:"Moneyboys"\, de C.B. Yi (V.O.S.)
END:VEVENT
BEGIN:VEVENT
DTSTAMP:20260421T234316Z
UID:event-2744-2022-08-20T22:30:00+02:00-none
DTSTART;TZID=Europe/Madrid:20220820T223000
DESCRIPTION:Fei se gana la vida en la gran ciudad trabajando en la prostitu
 ción. Su mundo se derrumba cuando se da cuenta de que su familia acepta s
 u dinero pero no su forma de vida ni su homosexualidad. 
SUMMARY:"Moneyboys"\, de C.B. Yi (V.O.S.)
END:VEVENT
BEGIN:VEVENT
DTSTAMP:20260421T234316Z
UID:event-2744-2022-08-21T22:30:00+02:00-none
DTSTART;TZID=Europe/Madrid:20220821T223000
DESCRIPTION:Fei se gana la vida en la gran ciudad trabajando en la prostitu
 ción. Su mundo se derrumba cuando se da cuenta de que su familia acepta s
 u dinero pero no su forma de vida ni su homosexualidad. 
SUMMARY:"Moneyboys"\, de C.B. Yi (V.O.S.)
END:VEVENT
BEGIN:VEVENT
DTSTAMP:20260421T234316Z
UID:event-2744-2022-08-22T22:30:00+02:00-none
DTSTART;TZID=Europe/Madrid:20220822T223000
DESCRIPTION:Fei se gana la vida en la gran ciudad trabajando en la prostitu
 ción. Su mundo se derrumba cuando se da cuenta de que su familia acepta s
 u dinero pero no su forma de vida ni su homosexualidad. 
SUMMARY:"Moneyboys"\, de C.B. Yi (V.O.S.)
END:VEVENT
BEGIN:VEVENT
DTSTAMP:20260421T234316Z
UID:event-2744-2022-08-23T22:30:00+02:00-none
DTSTART;TZID=Europe/Madrid:20220823T223000
DESCRIPTION:Fei se gana la vida en la gran ciudad trabajando en la prostitu
 ción. Su mundo se derrumba cuando se da cuenta de que su familia acepta s
 u dinero pero no su forma de vida ni su homosexualidad. 
SUMMARY:"Moneyboys"\, de C.B. Yi (V.O.S.)
END:VEVENT
BEGIN:VEVENT
DTSTAMP:20260421T234316Z
UID:event-2744-2022-08-24T22:30:00+02:00-none
DTSTART;TZID=Europe/Madrid:20220824T223000
DESCRIPTION:Fei se gana la vida en la gran ciudad trabajando en la prostitu
 ción. Su mundo se derrumba cuando se da cuenta de que su familia acepta s
 u dinero pero no su forma de vida ni su homosexualidad. 
SUMMARY:"Moneyboys"\, de C.B. Yi (V.O.S.)
END:VEVENT
BEGIN:VEVENT
DTSTAMP:20260421T234316Z
UID:event-2744-2022-08-25T22:30:00+02:00-none
DTSTART;TZID=Europe/Madrid:20220825T223000
DESCRIPTION:Fei se gana la vida en la gran ciudad trabajando en la prostitu
 ción. Su mundo se derrumba cuando se da cuenta de que su familia acepta s
 u dinero pero no su forma de vida ni su homosexualidad. 
SUMMARY:"Moneyboys"\, de C.B. Yi (V.O.S.)
END:VEVENT
END:VCALENDAR
