BEGIN:VCALENDAR
VERSION:2.0
PRODID:icalendar-ruby
CALSCALE:GREGORIAN
METHOD:PUBLISH
BEGIN:VEVENT
DTSTAMP:20260423T101303Z
UID:event-3043-2022-09-16T19:00:00+02:00-2022-09-16T20:30:00+02:00
DTSTART;TZID=Europe/Madrid:20220916T190000
DTEND;TZID=Europe/Madrid:20220916T203000
DESCRIPTION:Blancoynight realiza talleres/rutas fotográficas por todo el p
 aís\, enseñando a captar el alma de la ciudad a través de la fotografí
 a urbana.
SUMMARY:Ruta fotográfica con Blancoynight
END:VEVENT
BEGIN:VEVENT
DTSTAMP:20260423T101303Z
UID:event-3043-2022-09-17T19:00:00+02:00-2022-09-17T20:30:00+02:00
DTSTART;TZID=Europe/Madrid:20220917T190000
DTEND;TZID=Europe/Madrid:20220917T203000
DESCRIPTION:Blancoynight realiza talleres/rutas fotográficas por todo el p
 aís\, enseñando a captar el alma de la ciudad a través de la fotografí
 a urbana.
SUMMARY:Ruta fotográfica con Blancoynight
END:VEVENT
END:VCALENDAR
