BEGIN:VCALENDAR
VERSION:2.0
PRODID:icalendar-ruby
CALSCALE:GREGORIAN
METHOD:PUBLISH
BEGIN:VEVENT
DTSTAMP:20260419T133640Z
UID:event-8456-2023-11-16T21:45:00+01:00-none
DTSTART;TZID=Europe/Madrid:20231116T214500
DESCRIPTION:Narra la historia de Tim Ballard\, un ex agente de Seguridad Na
 cional de Estados Unidos que dejó su trabajo para dedicar su vida a inten
 tar salvar las vidas de cientos de niños. 
SUMMARY:"Sound of Freedom"\, de Alejandro Monteverde (V.O.S.E.)
END:VEVENT
BEGIN:VEVENT
DTSTAMP:20260419T133640Z
UID:event-8456-2023-11-18T21:45:00+01:00-none
DTSTART;TZID=Europe/Madrid:20231118T214500
DESCRIPTION:Narra la historia de Tim Ballard\, un ex agente de Seguridad Na
 cional de Estados Unidos que dejó su trabajo para dedicar su vida a inten
 tar salvar las vidas de cientos de niños. 
SUMMARY:"Sound of Freedom"\, de Alejandro Monteverde (V.O.S.E.)
END:VEVENT
BEGIN:VEVENT
DTSTAMP:20260419T133640Z
UID:event-8456-2023-11-19T21:45:00+01:00-none
DTSTART;TZID=Europe/Madrid:20231119T214500
DESCRIPTION:Narra la historia de Tim Ballard\, un ex agente de Seguridad Na
 cional de Estados Unidos que dejó su trabajo para dedicar su vida a inten
 tar salvar las vidas de cientos de niños. 
SUMMARY:"Sound of Freedom"\, de Alejandro Monteverde (V.O.S.E.)
END:VEVENT
END:VCALENDAR
