BEGIN:VCALENDAR
VERSION:2.0
PRODID:icalendar-ruby
CALSCALE:GREGORIAN
METHOD:PUBLISH
BEGIN:VEVENT
DTSTAMP:20260422T164225Z
UID:event-640-2022-03-05T10:00:00+01:00-2022-03-05T14:00:00+01:00
DTSTART;TZID=Europe/Madrid:20220305T100000
DTEND;TZID=Europe/Madrid:20220305T140000
DESCRIPTION:Las alumnas/os crearán artesanalmente un cuaderno de tapa dura
 \, cosido con una de las costura vista más antiguas\, la Copta. Posee un 
 acabado atractivo y está pensada para una apertura total del libro.
SUMMARY:"Costura copta"\, taller de encuadernación
END:VEVENT
END:VCALENDAR
