BEGIN:VCALENDAR
VERSION:2.0
PRODID:icalendar-ruby
CALSCALE:GREGORIAN
METHOD:PUBLISH
BEGIN:VEVENT
DTSTAMP:20260423T083515Z
UID:event-20828-2026-02-08T20:30:00+01:00-none
DTSTART;TZID=Europe/Madrid:20260208T203000
DESCRIPTION:Daniel Higiénico presenta un concierto/espectáculo con cancio
 nes… y otras cosas… Humor\, reflexión\, música y teatro. Daniel mezc
 lará todos esos ingredientes para ofrecer un espectáculo tan divertido c
 omo inclasificable. 
SUMMARY:Daniel Higiénico presenta "Cancionólogos"
END:VEVENT
END:VCALENDAR
