BEGIN:VCALENDAR
VERSION:2.0
PRODID:icalendar-ruby
CALSCALE:GREGORIAN
METHOD:PUBLISH
BEGIN:VEVENT
DTSTAMP:20260421T214701Z
UID:event-2440-2022-08-20T19:00:00+02:00-none
DTSTART;TZID=Europe/Madrid:20220820T190000
DESCRIPTION:Para disfrutar de esta música\, activar nuestra curiosidad por
  la exposición y bailar sin parar el Centro Botín ha creado esta activid
 ad que impartirá Junaid Jemal Sendi.
SUMMARY:Danza afrofuturista para conocer una exposición
END:VEVENT
END:VCALENDAR
