BEGIN:VCALENDAR
VERSION:2.0
PRODID:icalendar-ruby
CALSCALE:GREGORIAN
METHOD:PUBLISH
BEGIN:VEVENT
DTSTAMP:20260424T144626Z
UID:event-1269-2022-04-27T18:00:00+02:00-none
DTSTART;TZID=Europe/Madrid:20220427T180000
DESCRIPTION:El miércoles 27 de abril\, a las 18:00 h\, dentro del taller d
 e actividades del Centro Cultural Matilde de la Torre\, tendrá lugar el e
 ncuentro con Marisa Maliaño Toca\, médica\, master en salud pública\, d
 ocente de microbiología y ecofeminista.
SUMMARY:"De aquellas bacerias sexis a esta humanidad sin seso"\, con Marisa
  Maliaño Toca
END:VEVENT
END:VCALENDAR
