BEGIN:VCALENDAR
VERSION:2.0
PRODID:icalendar-ruby
CALSCALE:GREGORIAN
METHOD:PUBLISH
BEGIN:VEVENT
DTSTAMP:20260422T090358Z
UID:event-17605-2025-07-20T12:00:00+02:00-none
DTSTART;TZID=Europe/Madrid:20250720T120000
DESCRIPTION:Dentro del ciclo “La Municipal en el Templete de Pereda”\, 
 la Banda Municipal de Música de Santander ofrece un concierto el 20 de ju
 lio a las 12:00h titulado “Del musical al cine”.
SUMMARY:"Del musical al cine" con la Banda Municipal
END:VEVENT
END:VCALENDAR
