BEGIN:VCALENDAR
VERSION:2.0
PRODID:icalendar-ruby
CALSCALE:GREGORIAN
METHOD:PUBLISH
BEGIN:VEVENT
DTSTAMP:20260422T163840Z
UID:event-22335-2026-05-01T10:00:00+02:00-2026-05-01T22:00:00+02:00
DTSTART;TZID=Europe/Madrid:20260501T100000
DTEND;TZID=Europe/Madrid:20260501T220000
DESCRIPTION:Se podrán observar más de 120 dinosaurios a escala real que t
 ienen como objetivo recrear el mundo de estos animales gigantes\, que fuer
 on dueños de la tierra hace más de 65 millones de años. 
SUMMARY:Dino Expo XXL World Tour
END:VEVENT
BEGIN:VEVENT
DTSTAMP:20260422T163840Z
UID:event-22335-2026-05-02T10:00:00+02:00-2026-05-02T22:00:00+02:00
DTSTART;TZID=Europe/Madrid:20260502T100000
DTEND;TZID=Europe/Madrid:20260502T220000
DESCRIPTION:Se podrán observar más de 120 dinosaurios a escala real que t
 ienen como objetivo recrear el mundo de estos animales gigantes\, que fuer
 on dueños de la tierra hace más de 65 millones de años. 
SUMMARY:Dino Expo XXL World Tour
END:VEVENT
END:VCALENDAR
