BEGIN:VCALENDAR
VERSION:2.0
PRODID:icalendar-ruby
CALSCALE:GREGORIAN
METHOD:PUBLISH
BEGIN:VEVENT
DTSTAMP:20260422T170845Z
UID:event-14173-2025-05-16T22:00:00+02:00-none
DTSTART;TZID=Europe/Madrid:20250516T220000
DESCRIPTION:+dMANÁ\, la veterana banda tributo de Maná en Europa\, regres
 a a los escenarios tras el éxito de “Energía Positiva Tour” para pre
 sentar su nueva producción: «¿Dónde jugarán los niños?"
SUMMARY:+dMANÁ. Banda tributo a Maná
END:VEVENT
END:VCALENDAR
