BEGIN:VCALENDAR
VERSION:2.0
PRODID:icalendar-ruby
CALSCALE:GREGORIAN
METHOD:PUBLISH
BEGIN:VEVENT
DTSTAMP:20260420T143144Z
UID:event-8899-2023-12-28T19:30:00+01:00-none
DTSTART;TZID=Europe/Madrid:20231228T193000
DESCRIPTION:El documental\, de 23 minutos de duración\, contiene los comen
 tarios del productor Giles Martin -hijo de George Martin\, mítico product
 or musical de los Beatles-\, así como de Paul\, George\, Ringo y Sean Len
 non.
SUMMARY:Documental sobre la historia de la canción de The Beatles "Now and
  Then" 
END:VEVENT
END:VCALENDAR
