BEGIN:VCALENDAR
VERSION:2.0
PRODID:icalendar-ruby
CALSCALE:GREGORIAN
METHOD:PUBLISH
BEGIN:VEVENT
DTSTAMP:20260421T234353Z
UID:event-2626-2022-08-20T17:30:00+02:00-none
DTSTART;TZID=Europe/Madrid:20220820T173000
DESCRIPTION:Felipe Almendros recibe el premio a mejor actor en el Festival 
 CINESPAÑA de Toulouse por su papel protagonista en la película EL ARTE D
 E FRÍO#1. La responsabilidad asociada a ese accidente le hace replantears
 e su vida.
SUMMARY:"El Arte de Frío#2"\, dirigida por Ander Duque 
END:VEVENT
END:VCALENDAR
