BEGIN:VCALENDAR
VERSION:2.0
PRODID:icalendar-ruby
CALSCALE:GREGORIAN
METHOD:PUBLISH
BEGIN:VEVENT
DTSTAMP:20260424T165447Z
UID:event-11579-2024-06-15T20:00:00+02:00-none
DTSTART;TZID=Europe/Madrid:20240615T200000
DESCRIPTION:Escrita y dirigida por Ramón Qu\, con Alberto Querol como ayud
 ante de dirección\, y protagonizada por Ana Pellón y Juanjo Paredes\, en
  la obra una mujer salta frente a un muro: quiere ver lo que hay al otro l
 ado. 
SUMMARY:El Callejón Teatro estrena una nueva versión de "El Muro"
END:VEVENT
BEGIN:VEVENT
DTSTAMP:20260424T165447Z
UID:event-11579-2024-06-16T20:00:00+02:00-none
DTSTART;TZID=Europe/Madrid:20240616T200000
DESCRIPTION:Escrita y dirigida por Ramón Qu\, con Alberto Querol como ayud
 ante de dirección\, y protagonizada por Ana Pellón y Juanjo Paredes\, en
  la obra una mujer salta frente a un muro: quiere ver lo que hay al otro l
 ado. 
SUMMARY:El Callejón Teatro estrena una nueva versión de "El Muro"
END:VEVENT
END:VCALENDAR
