BEGIN:VCALENDAR
VERSION:2.0
PRODID:icalendar-ruby
CALSCALE:GREGORIAN
METHOD:PUBLISH
BEGIN:VEVENT
DTSTAMP:20260419T131922Z
UID:event-21357-2026-03-03T19:00:00+01:00-none
DTSTART;TZID=Europe/Madrid:20260303T190000
DESCRIPTION:Un canino de león de las cavernas perforado de la cueva de Alt
 amira sirve como punto de partida para recorrer la diversidad faunística 
 de los ornamentos personales\, que no es casual.
SUMMARY:El colmillo del León de la cueva de Altamira: de la huella microsc
 ópica a la identidad paleolítica
END:VEVENT
END:VCALENDAR
