BEGIN:VCALENDAR
VERSION:2.0
PRODID:icalendar-ruby
CALSCALE:GREGORIAN
METHOD:PUBLISH
BEGIN:VEVENT
DTSTAMP:20260421T165046Z
UID:event-10849-2024-05-02T19:00:00+02:00-none
DTSTART;TZID=Europe/Madrid:20240502T190000
DESCRIPTION:Los padres del ingeniero y prodigioso inventor residían en el 
 valle de Iguña hasta pocos días antes de su llegada al mundo… ¿quiere
 s saber más?
SUMMARY:El "misterio" del nacimiento de Leonardo Torres Quevedo en Cantabri
 a\, charla
END:VEVENT
END:VCALENDAR
