BEGIN:VCALENDAR
VERSION:2.0
PRODID:icalendar-ruby
CALSCALE:GREGORIAN
METHOD:PUBLISH
BEGIN:VEVENT
DTSTAMP:20260423T154726Z
UID:event-22396-2026-04-24T19:30:00+02:00-none
DTSTART;TZID=Europe/Madrid:20260424T193000
DESCRIPTION:Una nueva entrega de trabajos que configuran esa mirada del úl
 timo Gruber\, que se maneja entre referentes\, citas y coherencia artísti
 ca. La muestra revela y certifica un paso más en el ideario imaginativo y
  creativo del artista.
SUMMARY:"El ojo Insomne" de Eduardo Gruber se instala en Siboney. Inaugurac
 ión
END:VEVENT
END:VCALENDAR
