BEGIN:VCALENDAR
VERSION:2.0
PRODID:icalendar-ruby
CALSCALE:GREGORIAN
METHOD:PUBLISH
BEGIN:VEVENT
DTSTAMP:20260420T165343Z
UID:event-22284-2026-04-20T17:30:00+02:00-none
DTSTART;TZID=Europe/Madrid:20260420T173000
DESCRIPTION:Un gran evento en la National Gallery de Londres reunió la col
 ección más grande de pinturas sobrevivientes de Leonardo para una exposi
 ción única ‘Leonardo da Vinci: pintor en la corte de Milán’.
SUMMARY:Embajadores del arte: "Leonardo desde la National Gallery"
END:VEVENT
END:VCALENDAR
