BEGIN:VCALENDAR
VERSION:2.0
PRODID:icalendar-ruby
CALSCALE:GREGORIAN
METHOD:PUBLISH
BEGIN:VEVENT
DTSTAMP:20260423T101309Z
UID:event-15342-2025-02-26T18:00:00+01:00-none
DTSTART;TZID=Europe/Madrid:20250226T180000
DESCRIPTION:El libro repasa los años de existencia del primer intento seri
 o de poner la cultura y la educación al alcance de las clases más modest
 as con la participación de toda la sociedad santanderina.
SUMMARY:Encuentro con Fernando de Vierna en torno a su libro “Ateneo Popu
 lar de Santander”
END:VEVENT
END:VCALENDAR
