BEGIN:VCALENDAR
VERSION:2.0
PRODID:icalendar-ruby
CALSCALE:GREGORIAN
METHOD:PUBLISH
BEGIN:VEVENT
DTSTAMP:20260423T101000Z
UID:event-1366-2022-05-04T18:00:00+02:00-none
DTSTART;TZID=Europe/Madrid:20220504T180000
DESCRIPTION:El miércoles 4 miércoles de mayo\, a las18:00 horas\, en el t
 aller de Literatura impartido por Marisa Samaniego\, tendrá lugar un encu
 entro con el poeta José Antonio González Fuentes quien hablará sobre su
  obra "Los días desiertos".
SUMMARY:Encuentro con José Antonio González Fuentes
END:VEVENT
END:VCALENDAR
