BEGIN:VCALENDAR
VERSION:2.0
PRODID:icalendar-ruby
CALSCALE:GREGORIAN
METHOD:PUBLISH
BEGIN:VEVENT
DTSTAMP:20260423T154731Z
UID:event-4308-2023-01-11T19:00:00+01:00-none
DTSTART;TZID=Europe/Madrid:20230111T190000
DESCRIPTION:El Centro Botín propone un encuentro en la exposición “Dami
 án Ortega: Visión expandida” con personal del equipo de arte del Centr
 o Botín involucrado en la gestión\, producción\, montaje y conservació
 n de las obras.
SUMMARY:Encuentro en la exposición "Damián Ortega: Visión expandida"
END:VEVENT
END:VCALENDAR
