BEGIN:VCALENDAR
VERSION:2.0
PRODID:icalendar-ruby
CALSCALE:GREGORIAN
METHOD:PUBLISH
BEGIN:VEVENT
DTSTAMP:20260420T144209Z
UID:event-7059-2023-07-27T20:30:00+02:00-none
DTSTART;TZID=Europe/Madrid:20230727T203000
DESCRIPTION:Mojinos Escozíos es un grupo de hard rock y heavy metal españ
 ol que destaca\, sobre todo\, por las letras de sus canciones\, que pueden
  considerarse irreverentes\, humorísticas e incluso escatológicas.
SUMMARY:Escenario Porticada: Viento del Sur y Mojinos Escozíos
END:VEVENT
BEGIN:VEVENT
DTSTAMP:20260420T144209Z
UID:event-7059-2023-07-27T22:30:00+02:00-none
DTSTART;TZID=Europe/Madrid:20230727T223000
DESCRIPTION:Mojinos Escozíos es un grupo de hard rock y heavy metal españ
 ol que destaca\, sobre todo\, por las letras de sus canciones\, que pueden
  considerarse irreverentes\, humorísticas e incluso escatológicas.
SUMMARY:Escenario Porticada: Viento del Sur y Mojinos Escozíos
END:VEVENT
END:VCALENDAR
