BEGIN:VCALENDAR
VERSION:2.0
PRODID:icalendar-ruby
CALSCALE:GREGORIAN
METHOD:PUBLISH
BEGIN:VEVENT
DTSTAMP:20260423T153012Z
UID:event-4505-2023-02-28T19:30:00+01:00-none
DTSTART;TZID=Europe/Madrid:20230228T193000
DESCRIPTION:El XXXVII Curso de Teología tiene como objetivos ofrecer un ca
 uce sistemático de formación académica que permita profundizar en el an
 álisis del mensaje cristiano e incorporar la teología al ámbito univers
 itario.
SUMMARY:"Espiritualidad y espiritualidades"\, por Mónica Díaz Álamo y Jo
 sé Carlos Coupeau
END:VEVENT
END:VCALENDAR
