BEGIN:VCALENDAR
VERSION:2.0
PRODID:icalendar-ruby
CALSCALE:GREGORIAN
METHOD:PUBLISH
BEGIN:VEVENT
DTSTAMP:20260426T042757Z
UID:event-9309-2024-01-15T09:00:00+01:00-2024-01-15T20:30:00+01:00
DTSTART;TZID=Europe/Madrid:20240115T090000
DTEND;TZID=Europe/Madrid:20240115T203000
DESCRIPTION:La exposición fotográfica de Fidel Raso ilustra con 53 instan
 táneas párrafos de la obra Un mundo que agoniza\, de Miguel Delibes\, un
 a reflexión adelantada a su tiempo sobre la destrucción del medio ambien
 te.
SUMMARY:Exposición fotográfica de Fidel Raso\, "El jinete amarillo"
END:VEVENT
BEGIN:VEVENT
DTSTAMP:20260426T042757Z
UID:event-9309-2024-01-16T09:00:00+01:00-2024-01-16T20:30:00+01:00
DTSTART;TZID=Europe/Madrid:20240116T090000
DTEND;TZID=Europe/Madrid:20240116T203000
DESCRIPTION:La exposición fotográfica de Fidel Raso ilustra con 53 instan
 táneas párrafos de la obra Un mundo que agoniza\, de Miguel Delibes\, un
 a reflexión adelantada a su tiempo sobre la destrucción del medio ambien
 te.
SUMMARY:Exposición fotográfica de Fidel Raso\, "El jinete amarillo"
END:VEVENT
BEGIN:VEVENT
DTSTAMP:20260426T042757Z
UID:event-9309-2024-01-17T09:00:00+01:00-2024-01-17T20:30:00+01:00
DTSTART;TZID=Europe/Madrid:20240117T090000
DTEND;TZID=Europe/Madrid:20240117T203000
DESCRIPTION:La exposición fotográfica de Fidel Raso ilustra con 53 instan
 táneas párrafos de la obra Un mundo que agoniza\, de Miguel Delibes\, un
 a reflexión adelantada a su tiempo sobre la destrucción del medio ambien
 te.
SUMMARY:Exposición fotográfica de Fidel Raso\, "El jinete amarillo"
END:VEVENT
BEGIN:VEVENT
DTSTAMP:20260426T042757Z
UID:event-9309-2024-01-18T09:00:00+01:00-2024-01-18T20:30:00+01:00
DTSTART;TZID=Europe/Madrid:20240118T090000
DTEND;TZID=Europe/Madrid:20240118T203000
DESCRIPTION:La exposición fotográfica de Fidel Raso ilustra con 53 instan
 táneas párrafos de la obra Un mundo que agoniza\, de Miguel Delibes\, un
 a reflexión adelantada a su tiempo sobre la destrucción del medio ambien
 te.
SUMMARY:Exposición fotográfica de Fidel Raso\, "El jinete amarillo"
END:VEVENT
BEGIN:VEVENT
DTSTAMP:20260426T042757Z
UID:event-9309-2024-01-19T09:00:00+01:00-2024-01-19T14:00:00+01:00
DTSTART;TZID=Europe/Madrid:20240119T090000
DTEND;TZID=Europe/Madrid:20240119T140000
DESCRIPTION:La exposición fotográfica de Fidel Raso ilustra con 53 instan
 táneas párrafos de la obra Un mundo que agoniza\, de Miguel Delibes\, un
 a reflexión adelantada a su tiempo sobre la destrucción del medio ambien
 te.
SUMMARY:Exposición fotográfica de Fidel Raso\, "El jinete amarillo"
END:VEVENT
BEGIN:VEVENT
DTSTAMP:20260426T042757Z
UID:event-9309-2024-01-22T09:00:00+01:00-2024-01-22T20:30:00+01:00
DTSTART;TZID=Europe/Madrid:20240122T090000
DTEND;TZID=Europe/Madrid:20240122T203000
DESCRIPTION:La exposición fotográfica de Fidel Raso ilustra con 53 instan
 táneas párrafos de la obra Un mundo que agoniza\, de Miguel Delibes\, un
 a reflexión adelantada a su tiempo sobre la destrucción del medio ambien
 te.
SUMMARY:Exposición fotográfica de Fidel Raso\, "El jinete amarillo"
END:VEVENT
BEGIN:VEVENT
DTSTAMP:20260426T042757Z
UID:event-9309-2024-01-23T09:00:00+01:00-2024-01-23T20:30:00+01:00
DTSTART;TZID=Europe/Madrid:20240123T090000
DTEND;TZID=Europe/Madrid:20240123T203000
DESCRIPTION:La exposición fotográfica de Fidel Raso ilustra con 53 instan
 táneas párrafos de la obra Un mundo que agoniza\, de Miguel Delibes\, un
 a reflexión adelantada a su tiempo sobre la destrucción del medio ambien
 te.
SUMMARY:Exposición fotográfica de Fidel Raso\, "El jinete amarillo"
END:VEVENT
BEGIN:VEVENT
DTSTAMP:20260426T042757Z
UID:event-9309-2024-01-24T09:00:00+01:00-2024-01-24T20:30:00+01:00
DTSTART;TZID=Europe/Madrid:20240124T090000
DTEND;TZID=Europe/Madrid:20240124T203000
DESCRIPTION:La exposición fotográfica de Fidel Raso ilustra con 53 instan
 táneas párrafos de la obra Un mundo que agoniza\, de Miguel Delibes\, un
 a reflexión adelantada a su tiempo sobre la destrucción del medio ambien
 te.
SUMMARY:Exposición fotográfica de Fidel Raso\, "El jinete amarillo"
END:VEVENT
BEGIN:VEVENT
DTSTAMP:20260426T042757Z
UID:event-9309-2024-01-25T09:00:00+01:00-2024-01-25T20:30:00+01:00
DTSTART;TZID=Europe/Madrid:20240125T090000
DTEND;TZID=Europe/Madrid:20240125T203000
DESCRIPTION:La exposición fotográfica de Fidel Raso ilustra con 53 instan
 táneas párrafos de la obra Un mundo que agoniza\, de Miguel Delibes\, un
 a reflexión adelantada a su tiempo sobre la destrucción del medio ambien
 te.
SUMMARY:Exposición fotográfica de Fidel Raso\, "El jinete amarillo"
END:VEVENT
BEGIN:VEVENT
DTSTAMP:20260426T042757Z
UID:event-9309-2024-01-26T09:00:00+01:00-2024-01-26T14:00:00+01:00
DTSTART;TZID=Europe/Madrid:20240126T090000
DTEND;TZID=Europe/Madrid:20240126T140000
DESCRIPTION:La exposición fotográfica de Fidel Raso ilustra con 53 instan
 táneas párrafos de la obra Un mundo que agoniza\, de Miguel Delibes\, un
 a reflexión adelantada a su tiempo sobre la destrucción del medio ambien
 te.
SUMMARY:Exposición fotográfica de Fidel Raso\, "El jinete amarillo"
END:VEVENT
BEGIN:VEVENT
DTSTAMP:20260426T042757Z
UID:event-9309-2024-01-29T09:00:00+01:00-2024-01-29T20:30:00+01:00
DTSTART;TZID=Europe/Madrid:20240129T090000
DTEND;TZID=Europe/Madrid:20240129T203000
DESCRIPTION:La exposición fotográfica de Fidel Raso ilustra con 53 instan
 táneas párrafos de la obra Un mundo que agoniza\, de Miguel Delibes\, un
 a reflexión adelantada a su tiempo sobre la destrucción del medio ambien
 te.
SUMMARY:Exposición fotográfica de Fidel Raso\, "El jinete amarillo"
END:VEVENT
BEGIN:VEVENT
DTSTAMP:20260426T042757Z
UID:event-9309-2024-01-30T09:00:00+01:00-2024-01-30T20:30:00+01:00
DTSTART;TZID=Europe/Madrid:20240130T090000
DTEND;TZID=Europe/Madrid:20240130T203000
DESCRIPTION:La exposición fotográfica de Fidel Raso ilustra con 53 instan
 táneas párrafos de la obra Un mundo que agoniza\, de Miguel Delibes\, un
 a reflexión adelantada a su tiempo sobre la destrucción del medio ambien
 te.
SUMMARY:Exposición fotográfica de Fidel Raso\, "El jinete amarillo"
END:VEVENT
BEGIN:VEVENT
DTSTAMP:20260426T042757Z
UID:event-9309-2024-01-31T09:00:00+01:00-2024-01-31T20:30:00+01:00
DTSTART;TZID=Europe/Madrid:20240131T090000
DTEND;TZID=Europe/Madrid:20240131T203000
DESCRIPTION:La exposición fotográfica de Fidel Raso ilustra con 53 instan
 táneas párrafos de la obra Un mundo que agoniza\, de Miguel Delibes\, un
 a reflexión adelantada a su tiempo sobre la destrucción del medio ambien
 te.
SUMMARY:Exposición fotográfica de Fidel Raso\, "El jinete amarillo"
END:VEVENT
BEGIN:VEVENT
DTSTAMP:20260426T042757Z
UID:event-9309-2024-02-01T09:00:00+01:00-2024-02-01T20:30:00+01:00
DTSTART;TZID=Europe/Madrid:20240201T090000
DTEND;TZID=Europe/Madrid:20240201T203000
DESCRIPTION:La exposición fotográfica de Fidel Raso ilustra con 53 instan
 táneas párrafos de la obra Un mundo que agoniza\, de Miguel Delibes\, un
 a reflexión adelantada a su tiempo sobre la destrucción del medio ambien
 te.
SUMMARY:Exposición fotográfica de Fidel Raso\, "El jinete amarillo"
END:VEVENT
BEGIN:VEVENT
DTSTAMP:20260426T042757Z
UID:event-9309-2024-02-02T09:00:00+01:00-2024-02-02T14:00:00+01:00
DTSTART;TZID=Europe/Madrid:20240202T090000
DTEND;TZID=Europe/Madrid:20240202T140000
DESCRIPTION:La exposición fotográfica de Fidel Raso ilustra con 53 instan
 táneas párrafos de la obra Un mundo que agoniza\, de Miguel Delibes\, un
 a reflexión adelantada a su tiempo sobre la destrucción del medio ambien
 te.
SUMMARY:Exposición fotográfica de Fidel Raso\, "El jinete amarillo"
END:VEVENT
BEGIN:VEVENT
DTSTAMP:20260426T042757Z
UID:event-9309-2024-02-05T09:00:00+01:00-2024-02-05T20:30:00+01:00
DTSTART;TZID=Europe/Madrid:20240205T090000
DTEND;TZID=Europe/Madrid:20240205T203000
DESCRIPTION:La exposición fotográfica de Fidel Raso ilustra con 53 instan
 táneas párrafos de la obra Un mundo que agoniza\, de Miguel Delibes\, un
 a reflexión adelantada a su tiempo sobre la destrucción del medio ambien
 te.
SUMMARY:Exposición fotográfica de Fidel Raso\, "El jinete amarillo"
END:VEVENT
BEGIN:VEVENT
DTSTAMP:20260426T042757Z
UID:event-9309-2024-02-06T09:00:00+01:00-2024-02-06T20:30:00+01:00
DTSTART;TZID=Europe/Madrid:20240206T090000
DTEND;TZID=Europe/Madrid:20240206T203000
DESCRIPTION:La exposición fotográfica de Fidel Raso ilustra con 53 instan
 táneas párrafos de la obra Un mundo que agoniza\, de Miguel Delibes\, un
 a reflexión adelantada a su tiempo sobre la destrucción del medio ambien
 te.
SUMMARY:Exposición fotográfica de Fidel Raso\, "El jinete amarillo"
END:VEVENT
BEGIN:VEVENT
DTSTAMP:20260426T042757Z
UID:event-9309-2024-02-07T09:00:00+01:00-2024-02-07T20:30:00+01:00
DTSTART;TZID=Europe/Madrid:20240207T090000
DTEND;TZID=Europe/Madrid:20240207T203000
DESCRIPTION:La exposición fotográfica de Fidel Raso ilustra con 53 instan
 táneas párrafos de la obra Un mundo que agoniza\, de Miguel Delibes\, un
 a reflexión adelantada a su tiempo sobre la destrucción del medio ambien
 te.
SUMMARY:Exposición fotográfica de Fidel Raso\, "El jinete amarillo"
END:VEVENT
BEGIN:VEVENT
DTSTAMP:20260426T042757Z
UID:event-9309-2024-02-08T09:00:00+01:00-2024-02-08T20:30:00+01:00
DTSTART;TZID=Europe/Madrid:20240208T090000
DTEND;TZID=Europe/Madrid:20240208T203000
DESCRIPTION:La exposición fotográfica de Fidel Raso ilustra con 53 instan
 táneas párrafos de la obra Un mundo que agoniza\, de Miguel Delibes\, un
 a reflexión adelantada a su tiempo sobre la destrucción del medio ambien
 te.
SUMMARY:Exposición fotográfica de Fidel Raso\, "El jinete amarillo"
END:VEVENT
BEGIN:VEVENT
DTSTAMP:20260426T042757Z
UID:event-9309-2024-02-09T09:00:00+01:00-2024-02-09T14:00:00+01:00
DTSTART;TZID=Europe/Madrid:20240209T090000
DTEND;TZID=Europe/Madrid:20240209T140000
DESCRIPTION:La exposición fotográfica de Fidel Raso ilustra con 53 instan
 táneas párrafos de la obra Un mundo que agoniza\, de Miguel Delibes\, un
 a reflexión adelantada a su tiempo sobre la destrucción del medio ambien
 te.
SUMMARY:Exposición fotográfica de Fidel Raso\, "El jinete amarillo"
END:VEVENT
BEGIN:VEVENT
DTSTAMP:20260426T042757Z
UID:event-9309-2024-02-12T09:00:00+01:00-2024-02-12T20:30:00+01:00
DTSTART;TZID=Europe/Madrid:20240212T090000
DTEND;TZID=Europe/Madrid:20240212T203000
DESCRIPTION:La exposición fotográfica de Fidel Raso ilustra con 53 instan
 táneas párrafos de la obra Un mundo que agoniza\, de Miguel Delibes\, un
 a reflexión adelantada a su tiempo sobre la destrucción del medio ambien
 te.
SUMMARY:Exposición fotográfica de Fidel Raso\, "El jinete amarillo"
END:VEVENT
BEGIN:VEVENT
DTSTAMP:20260426T042757Z
UID:event-9309-2024-02-13T09:00:00+01:00-2024-02-13T20:30:00+01:00
DTSTART;TZID=Europe/Madrid:20240213T090000
DTEND;TZID=Europe/Madrid:20240213T203000
DESCRIPTION:La exposición fotográfica de Fidel Raso ilustra con 53 instan
 táneas párrafos de la obra Un mundo que agoniza\, de Miguel Delibes\, un
 a reflexión adelantada a su tiempo sobre la destrucción del medio ambien
 te.
SUMMARY:Exposición fotográfica de Fidel Raso\, "El jinete amarillo"
END:VEVENT
BEGIN:VEVENT
DTSTAMP:20260426T042757Z
UID:event-9309-2024-02-14T09:00:00+01:00-2024-02-14T20:30:00+01:00
DTSTART;TZID=Europe/Madrid:20240214T090000
DTEND;TZID=Europe/Madrid:20240214T203000
DESCRIPTION:La exposición fotográfica de Fidel Raso ilustra con 53 instan
 táneas párrafos de la obra Un mundo que agoniza\, de Miguel Delibes\, un
 a reflexión adelantada a su tiempo sobre la destrucción del medio ambien
 te.
SUMMARY:Exposición fotográfica de Fidel Raso\, "El jinete amarillo"
END:VEVENT
BEGIN:VEVENT
DTSTAMP:20260426T042757Z
UID:event-9309-2024-02-15T09:00:00+01:00-2024-02-15T20:30:00+01:00
DTSTART;TZID=Europe/Madrid:20240215T090000
DTEND;TZID=Europe/Madrid:20240215T203000
DESCRIPTION:La exposición fotográfica de Fidel Raso ilustra con 53 instan
 táneas párrafos de la obra Un mundo que agoniza\, de Miguel Delibes\, un
 a reflexión adelantada a su tiempo sobre la destrucción del medio ambien
 te.
SUMMARY:Exposición fotográfica de Fidel Raso\, "El jinete amarillo"
END:VEVENT
BEGIN:VEVENT
DTSTAMP:20260426T042757Z
UID:event-9309-2024-02-16T09:00:00+01:00-2024-02-16T14:00:00+01:00
DTSTART;TZID=Europe/Madrid:20240216T090000
DTEND;TZID=Europe/Madrid:20240216T140000
DESCRIPTION:La exposición fotográfica de Fidel Raso ilustra con 53 instan
 táneas párrafos de la obra Un mundo que agoniza\, de Miguel Delibes\, un
 a reflexión adelantada a su tiempo sobre la destrucción del medio ambien
 te.
SUMMARY:Exposición fotográfica de Fidel Raso\, "El jinete amarillo"
END:VEVENT
BEGIN:VEVENT
DTSTAMP:20260426T042757Z
UID:event-9309-2024-02-19T09:00:00+01:00-2024-02-19T20:30:00+01:00
DTSTART;TZID=Europe/Madrid:20240219T090000
DTEND;TZID=Europe/Madrid:20240219T203000
DESCRIPTION:La exposición fotográfica de Fidel Raso ilustra con 53 instan
 táneas párrafos de la obra Un mundo que agoniza\, de Miguel Delibes\, un
 a reflexión adelantada a su tiempo sobre la destrucción del medio ambien
 te.
SUMMARY:Exposición fotográfica de Fidel Raso\, "El jinete amarillo"
END:VEVENT
BEGIN:VEVENT
DTSTAMP:20260426T042757Z
UID:event-9309-2024-02-20T09:00:00+01:00-2024-02-20T20:30:00+01:00
DTSTART;TZID=Europe/Madrid:20240220T090000
DTEND;TZID=Europe/Madrid:20240220T203000
DESCRIPTION:La exposición fotográfica de Fidel Raso ilustra con 53 instan
 táneas párrafos de la obra Un mundo que agoniza\, de Miguel Delibes\, un
 a reflexión adelantada a su tiempo sobre la destrucción del medio ambien
 te.
SUMMARY:Exposición fotográfica de Fidel Raso\, "El jinete amarillo"
END:VEVENT
BEGIN:VEVENT
DTSTAMP:20260426T042757Z
UID:event-9309-2024-02-21T09:00:00+01:00-2024-02-21T20:30:00+01:00
DTSTART;TZID=Europe/Madrid:20240221T090000
DTEND;TZID=Europe/Madrid:20240221T203000
DESCRIPTION:La exposición fotográfica de Fidel Raso ilustra con 53 instan
 táneas párrafos de la obra Un mundo que agoniza\, de Miguel Delibes\, un
 a reflexión adelantada a su tiempo sobre la destrucción del medio ambien
 te.
SUMMARY:Exposición fotográfica de Fidel Raso\, "El jinete amarillo"
END:VEVENT
BEGIN:VEVENT
DTSTAMP:20260426T042757Z
UID:event-9309-2024-02-22T09:00:00+01:00-2024-02-22T20:30:00+01:00
DTSTART;TZID=Europe/Madrid:20240222T090000
DTEND;TZID=Europe/Madrid:20240222T203000
DESCRIPTION:La exposición fotográfica de Fidel Raso ilustra con 53 instan
 táneas párrafos de la obra Un mundo que agoniza\, de Miguel Delibes\, un
 a reflexión adelantada a su tiempo sobre la destrucción del medio ambien
 te.
SUMMARY:Exposición fotográfica de Fidel Raso\, "El jinete amarillo"
END:VEVENT
BEGIN:VEVENT
DTSTAMP:20260426T042757Z
UID:event-9309-2024-02-23T09:00:00+01:00-2024-02-23T14:00:00+01:00
DTSTART;TZID=Europe/Madrid:20240223T090000
DTEND;TZID=Europe/Madrid:20240223T140000
DESCRIPTION:La exposición fotográfica de Fidel Raso ilustra con 53 instan
 táneas párrafos de la obra Un mundo que agoniza\, de Miguel Delibes\, un
 a reflexión adelantada a su tiempo sobre la destrucción del medio ambien
 te.
SUMMARY:Exposición fotográfica de Fidel Raso\, "El jinete amarillo"
END:VEVENT
BEGIN:VEVENT
DTSTAMP:20260426T042757Z
UID:event-9309-2024-02-26T09:00:00+01:00-2024-02-26T20:30:00+01:00
DTSTART;TZID=Europe/Madrid:20240226T090000
DTEND;TZID=Europe/Madrid:20240226T203000
DESCRIPTION:La exposición fotográfica de Fidel Raso ilustra con 53 instan
 táneas párrafos de la obra Un mundo que agoniza\, de Miguel Delibes\, un
 a reflexión adelantada a su tiempo sobre la destrucción del medio ambien
 te.
SUMMARY:Exposición fotográfica de Fidel Raso\, "El jinete amarillo"
END:VEVENT
BEGIN:VEVENT
DTSTAMP:20260426T042757Z
UID:event-9309-2024-02-27T09:00:00+01:00-2024-02-27T20:30:00+01:00
DTSTART;TZID=Europe/Madrid:20240227T090000
DTEND;TZID=Europe/Madrid:20240227T203000
DESCRIPTION:La exposición fotográfica de Fidel Raso ilustra con 53 instan
 táneas párrafos de la obra Un mundo que agoniza\, de Miguel Delibes\, un
 a reflexión adelantada a su tiempo sobre la destrucción del medio ambien
 te.
SUMMARY:Exposición fotográfica de Fidel Raso\, "El jinete amarillo"
END:VEVENT
BEGIN:VEVENT
DTSTAMP:20260426T042757Z
UID:event-9309-2024-02-28T09:00:00+01:00-2024-02-28T20:30:00+01:00
DTSTART;TZID=Europe/Madrid:20240228T090000
DTEND;TZID=Europe/Madrid:20240228T203000
DESCRIPTION:La exposición fotográfica de Fidel Raso ilustra con 53 instan
 táneas párrafos de la obra Un mundo que agoniza\, de Miguel Delibes\, un
 a reflexión adelantada a su tiempo sobre la destrucción del medio ambien
 te.
SUMMARY:Exposición fotográfica de Fidel Raso\, "El jinete amarillo"
END:VEVENT
BEGIN:VEVENT
DTSTAMP:20260426T042757Z
UID:event-9309-2024-02-29T09:00:00+01:00-2024-02-29T20:30:00+01:00
DTSTART;TZID=Europe/Madrid:20240229T090000
DTEND;TZID=Europe/Madrid:20240229T203000
DESCRIPTION:La exposición fotográfica de Fidel Raso ilustra con 53 instan
 táneas párrafos de la obra Un mundo que agoniza\, de Miguel Delibes\, un
 a reflexión adelantada a su tiempo sobre la destrucción del medio ambien
 te.
SUMMARY:Exposición fotográfica de Fidel Raso\, "El jinete amarillo"
END:VEVENT
BEGIN:VEVENT
DTSTAMP:20260426T042757Z
UID:event-9309-2024-03-01T09:00:00+01:00-2024-03-01T14:00:00+01:00
DTSTART;TZID=Europe/Madrid:20240301T090000
DTEND;TZID=Europe/Madrid:20240301T140000
DESCRIPTION:La exposición fotográfica de Fidel Raso ilustra con 53 instan
 táneas párrafos de la obra Un mundo que agoniza\, de Miguel Delibes\, un
 a reflexión adelantada a su tiempo sobre la destrucción del medio ambien
 te.
SUMMARY:Exposición fotográfica de Fidel Raso\, "El jinete amarillo"
END:VEVENT
END:VCALENDAR
