BEGIN:VCALENDAR
VERSION:2.0
PRODID:icalendar-ruby
CALSCALE:GREGORIAN
METHOD:PUBLISH
BEGIN:VEVENT
DTSTAMP:20260419T130613Z
UID:event-18304-2025-09-15T17:30:00+02:00-none
DTSTART;TZID=Europe/Madrid:20250915T173000
DESCRIPTION:Comedia negra con humor ácido y mirada crítica que sigue a un
 a familia disfuncional forzada a reunirse para organizar una tradicional b
 oda sámi en el remoto pueblo de Kautokeino. 
SUMMARY:FCS. Sundance TV: "La gran boda Sami"
END:VEVENT
END:VCALENDAR
